BEGIN:VCALENDAR
VERSION:2.0
PRODID:-//NG Kerk Vrystaat - ECPv6.15.20//NONSGML v1.0//EN
CALSCALE:GREGORIAN
METHOD:PUBLISH
X-ORIGINAL-URL:https://www.ngkerkvrystaat.co.za
X-WR-CALDESC:Events for NG Kerk Vrystaat
REFRESH-INTERVAL;VALUE=DURATION:PT1H
X-Robots-Tag:noindex
X-PUBLISHED-TTL:PT1H
BEGIN:VTIMEZONE
TZID:Africa/Johannesburg
BEGIN:STANDARD
TZOFFSETFROM:+0200
TZOFFSETTO:+0200
TZNAME:SAST
DTSTART:20230101T000000
END:STANDARD
END:VTIMEZONE
BEGIN:VEVENT
DTSTART;VALUE=DATE:20260201
DTEND;VALUE=DATE:20260202
DTSTAMP:20260419T163054
CREATED:20251210T095544Z
LAST-MODIFIED:20251210T095544Z
UID:85678-1769904000-1769990399@www.ngkerkvrystaat.co.za
SUMMARY:Kollekte:  Bedieningsbegeleiding (B6)
DESCRIPTION:
URL:https://www.ngkerkvrystaat.co.za/gebeure/kollekte-bedieningsbegeleiding-b6-3/
CATEGORIES:Kollekte 2026
END:VEVENT
BEGIN:VEVENT
DTSTART;TZID=Africa/Johannesburg:20260204T180000
DTEND;TZID=Africa/Johannesburg:20260204T190000
DTSTAMP:20260419T163054
CREATED:20260130T134639Z
LAST-MODIFIED:20260130T134639Z
UID:86415-1770228000-1770231600@www.ngkerkvrystaat.co.za
SUMMARY:"GriefShare"-program | NG Gemeente Pellissier
DESCRIPTION:
URL:https://www.ngkerkvrystaat.co.za/gebeure/griefshare-program-ng-gemeente-pellissier/
CATEGORIES:Dag Gebeurtenis | Gemeentes
ATTACH;FMTTYPE=image/png:https://www.ngkerkvrystaat.co.za/wp-content/uploads/2026/01/GriefShare.png
END:VEVENT
BEGIN:VEVENT
DTSTART;VALUE=DATE:20260205
DTEND;VALUE=DATE:20260206
DTSTAMP:20260419T163054
CREATED:20251210T095257Z
LAST-MODIFIED:20260116T073209Z
UID:85674-1770249600-1770335999@www.ngkerkvrystaat.co.za
SUMMARY:Moderamen
DESCRIPTION:
URL:https://www.ngkerkvrystaat.co.za/gebeure/moderamen-13/
LOCATION:Menuha
CATEGORIES:Moderamen
END:VEVENT
BEGIN:VEVENT
DTSTART;VALUE=DATE:20260205
DTEND;VALUE=DATE:20260206
DTSTAMP:20260419T163054
CREATED:20251210T095731Z
LAST-MODIFIED:20251210T095731Z
UID:85680-1770249600-1770335999@www.ngkerkvrystaat.co.za
SUMMARY:Diens v Barmhartigheid Dagbestuur
DESCRIPTION:
URL:https://www.ngkerkvrystaat.co.za/gebeure/diens-v-barmhartigheid-dagbestuur/
LOCATION:NG Kerk | Vrystaat | Sinode\, Van Heerdenweg 20\, Bloemfontein\, Vrystaat\, 9301\, South Africa
CATEGORIES:Diens van Barmhartigheid
END:VEVENT
BEGIN:VEVENT
DTSTART;TZID=Africa/Johannesburg:20260205T100000
DTEND;TZID=Africa/Johannesburg:20260205T120000
DTSTAMP:20260419T163054
CREATED:20260130T133133Z
LAST-MODIFIED:20260130T133133Z
UID:86406-1770285600-1770292800@www.ngkerkvrystaat.co.za
SUMMARY:Yolandé Korkie | Vrouediens-sending
DESCRIPTION:
URL:https://www.ngkerkvrystaat.co.za/gebeure/yolande-korkie-vrouediens-sending/
CATEGORIES:Dag Gebeurtenis | Gemeentes
ATTACH;FMTTYPE=image/jpeg:https://www.ngkerkvrystaat.co.za/wp-content/uploads/2026/01/WhatsApp-Image-2026-01-13-at-09.33.42.jpeg
END:VEVENT
BEGIN:VEVENT
DTSTART;VALUE=DATE:20260206
DTEND;VALUE=DATE:20260207
DTSTAMP:20260419T163054
CREATED:20251210T095940Z
LAST-MODIFIED:20251210T095940Z
UID:85683-1770336000-1770422399@www.ngkerkvrystaat.co.za
SUMMARY:Vrypos
DESCRIPTION:
URL:https://www.ngkerkvrystaat.co.za/gebeure/vrypos-22/
LOCATION:NG Kerk | Vrystaat | Sinode\, Van Heerdenweg 20\, Bloemfontein\, Vrystaat\, 9301\, South Africa
CATEGORIES:Ondersteuning,VRYPOS
END:VEVENT
BEGIN:VEVENT
DTSTART;TZID=Africa/Johannesburg:20260207T083000
DTEND;TZID=Africa/Johannesburg:20260207T130000
DTSTAMP:20260419T163054
CREATED:20260130T125752Z
LAST-MODIFIED:20260130T125752Z
UID:86386-1770453000-1770469200@www.ngkerkvrystaat.co.za
SUMMARY:"Garage Sale" | NG Gemeente Pellissier
DESCRIPTION:
URL:https://www.ngkerkvrystaat.co.za/gebeure/garage-sale-ng-gemeente-pellissier/
CATEGORIES:Dag Gebeurtenis | Gemeentes
ATTACH;FMTTYPE=image/jpeg:https://www.ngkerkvrystaat.co.za/wp-content/uploads/2026/01/WhatsApp-Image-2026-01-29-at-18.25.13.jpeg
END:VEVENT
BEGIN:VEVENT
DTSTART;VALUE=DATE:20260208
DTEND;VALUE=DATE:20260209
DTSTAMP:20260419T163054
CREATED:20251210T100037Z
LAST-MODIFIED:20251210T100037Z
UID:85685-1770508800-1770595199@www.ngkerkvrystaat.co.za
SUMMARY:Biddag vir Opvoeding en Onderwys
DESCRIPTION:
URL:https://www.ngkerkvrystaat.co.za/gebeure/biddag-vir-opvoeding-en-onderwys-2/
CATEGORIES:Biddag
END:VEVENT
BEGIN:VEVENT
DTSTART;VALUE=DATE:20260208
DTEND;VALUE=DATE:20260209
DTSTAMP:20260419T163054
CREATED:20251210T100128Z
LAST-MODIFIED:20251210T100128Z
UID:85687-1770508800-1770595199@www.ngkerkvrystaat.co.za
SUMMARY:Kollekte:  Predikantebegeleiding (B7)
DESCRIPTION:
URL:https://www.ngkerkvrystaat.co.za/gebeure/kollekte-predikantebegeleiding-b7/
CATEGORIES:Kollekte 2026
END:VEVENT
BEGIN:VEVENT
DTSTART;TZID=Africa/Johannesburg:20260209T140000
DTEND;TZID=Africa/Johannesburg:20260209T180000
DTSTAMP:20260419T163054
CREATED:20251210T103449Z
LAST-MODIFIED:20251210T103449Z
UID:85689-1770645600-1770660000@www.ngkerkvrystaat.co.za
SUMMARY:Fakulteit Opening  Seminarium opening 14:00 - 18:00 Legitimasie
DESCRIPTION:
URL:https://www.ngkerkvrystaat.co.za/gebeure/fakulteit-opening-seminarium-opening-1400-1800-legitimasie/
CATEGORIES:Kuratorium
END:VEVENT
BEGIN:VEVENT
DTSTART;VALUE=DATE:20260210
DTEND;VALUE=DATE:20260211
DTSTAMP:20260419T163054
CREATED:20251210T103605Z
LAST-MODIFIED:20251210T103728Z
UID:85692-1770681600-1770767999@www.ngkerkvrystaat.co.za
SUMMARY:Ouditkomitee
DESCRIPTION:
URL:https://www.ngkerkvrystaat.co.za/gebeure/ouditkomitee-10/
CATEGORIES:Ondersteuning
END:VEVENT
BEGIN:VEVENT
DTSTART;TZID=Africa/Johannesburg:20260210T190000
DTEND;TZID=Africa/Johannesburg:20260210T210000
DTSTAMP:20260419T163054
CREATED:20260209T075952Z
LAST-MODIFIED:20260209T075952Z
UID:86627-1770750000-1770757200@www.ngkerkvrystaat.co.za
SUMMARY:Islam vandag
DESCRIPTION:
URL:https://www.ngkerkvrystaat.co.za/gebeure/islam-vandag/
LOCATION:Zoom\, South Africa
CATEGORIES:Didasko | VBO,VBO Forum
ATTACH;FMTTYPE=image/jpeg:https://www.ngkerkvrystaat.co.za/wp-content/uploads/2026/02/Islam-Vandag.jpeg
END:VEVENT
BEGIN:VEVENT
DTSTART;VALUE=DATE:20260212
DTEND;VALUE=DATE:20260213
DTSTAMP:20260419T163054
CREATED:20251210T104017Z
LAST-MODIFIED:20251210T104017Z
UID:85694-1770854400-1770940799@www.ngkerkvrystaat.co.za
SUMMARY:Beurskomitee
DESCRIPTION:
URL:https://www.ngkerkvrystaat.co.za/gebeure/beurskomitee-6/
LOCATION:NG Kerk | Vrystaat | Sinode\, Van Heerdenweg 20\, Bloemfontein\, Vrystaat\, 9301\, South Africa
CATEGORIES:Ondersteuning
END:VEVENT
BEGIN:VEVENT
DTSTART;TZID=Africa/Johannesburg:20260212T183000
DTEND;TZID=Africa/Johannesburg:20260212T220000
DTSTAMP:20260419T163054
CREATED:20260130T130332Z
LAST-MODIFIED:20260130T130332Z
UID:86392-1770921000-1770933600@www.ngkerkvrystaat.co.za
SUMMARY:Kos\, kuier en kerslig | NG Gemeente Kestell
DESCRIPTION:
URL:https://www.ngkerkvrystaat.co.za/gebeure/kos-kuier-en-kerslig-ng-gemeente-kestell/
CATEGORIES:Dag Gebeurtenis | Gemeentes
ATTACH;FMTTYPE=image/jpeg:https://www.ngkerkvrystaat.co.za/wp-content/uploads/2026/01/WhatsApp-Image-2026-01-29-at-18.21.30.jpeg
END:VEVENT
BEGIN:VEVENT
DTSTART;VALUE=DATE:20240213
DTEND;VALUE=DATE:20240214
DTSTAMP:20260419T163054
CREATED:20240207T210415Z
LAST-MODIFIED:20240917T072046Z
UID:60871-1707782400-1707868799@www.ngkerkvrystaat.co.za
SUMMARY:Ds Ferdi Retrief
DESCRIPTION:
URL:https://www.ngkerkvrystaat.co.za/gebeure/ds-ferdi-retrief-3/
CATEGORIES:Verjaarsdae
END:VEVENT
BEGIN:VEVENT
DTSTART;VALUE=DATE:20240213
DTEND;VALUE=DATE:20240214
DTSTAMP:20260419T163054
CREATED:20240207T210415Z
LAST-MODIFIED:20240917T071957Z
UID:60869-1707782400-1707868799@www.ngkerkvrystaat.co.za
SUMMARY:Ds Gerber Roux
DESCRIPTION:
URL:https://www.ngkerkvrystaat.co.za/gebeure/ds-gerber-roux-3/
CATEGORIES:Verjaarsdae
END:VEVENT
BEGIN:VEVENT
DTSTART;VALUE=DATE:20260213
DTEND;VALUE=DATE:20260214
DTSTAMP:20260419T163054
CREATED:20251210T105133Z
LAST-MODIFIED:20251210T105133Z
UID:85696-1770940800-1771027199@www.ngkerkvrystaat.co.za
SUMMARY:BDiv1 Ontmoetingsretreat
DESCRIPTION:
URL:https://www.ngkerkvrystaat.co.za/gebeure/bdiv1-ontmoetingsretreat/
LOCATION:NG Kerk | Vrystaat | Sinode\, Van Heerdenweg 20\, Bloemfontein\, Vrystaat\, 9301\, South Africa
CATEGORIES:Kuratorium
END:VEVENT
BEGIN:VEVENT
DTSTART;TZID=Africa/Johannesburg:20260214T090000
DTEND;TZID=Africa/Johannesburg:20260214T120000
DTSTAMP:20260419T163054
CREATED:20260130T124742Z
LAST-MODIFIED:20260130T124742Z
UID:86379-1771059600-1771070400@www.ngkerkvrystaat.co.za
SUMMARY:Sokkerevangelisasie | NG Gemeente Koffiefontein
DESCRIPTION:
URL:https://www.ngkerkvrystaat.co.za/gebeure/sokkerevangelisasie-ng-gemeente-koffiefontein/
CATEGORIES:Dag Gebeurtenis | Gemeentes
ATTACH;FMTTYPE=image/jpeg:https://www.ngkerkvrystaat.co.za/wp-content/uploads/2026/01/Sokker-evangelisasie.jpeg
END:VEVENT
BEGIN:VEVENT
DTSTART;VALUE=DATE:20240215
DTEND;VALUE=DATE:20240216
DTSTAMP:20260419T163054
CREATED:20240207T210415Z
LAST-MODIFIED:20240917T072111Z
UID:60870-1707955200-1708041599@www.ngkerkvrystaat.co.za
SUMMARY:Ds Chris de Vries
DESCRIPTION:
URL:https://www.ngkerkvrystaat.co.za/gebeure/ds-chris-de-vries-3/
CATEGORIES:Verjaarsdae
END:VEVENT
BEGIN:VEVENT
DTSTART;VALUE=DATE:20260215
DTEND;VALUE=DATE:20260216
DTSTAMP:20260419T163054
CREATED:20251215T061732Z
LAST-MODIFIED:20251215T061732Z
UID:85703-1771113600-1771199999@www.ngkerkvrystaat.co.za
SUMMARY:Verheerlikingsondag
DESCRIPTION:
URL:https://www.ngkerkvrystaat.co.za/gebeure/verheerlikingsondag-2/
CATEGORIES:Kerkjaar
END:VEVENT
BEGIN:VEVENT
DTSTART;VALUE=DATE:20260215
DTEND;VALUE=DATE:20260216
DTSTAMP:20260419T163054
CREATED:20251215T062105Z
LAST-MODIFIED:20251215T062105Z
UID:85706-1771113600-1771199999@www.ngkerkvrystaat.co.za
SUMMARY:Kollekte:  Vennootskappe VGKSA Vrystaat (B8)
DESCRIPTION:
URL:https://www.ngkerkvrystaat.co.za/gebeure/kollekte-vennootskappe-vgksa-vrystaat-b8-3/
CATEGORIES:Kollekte 2026
END:VEVENT
BEGIN:VEVENT
DTSTART;TZID=Africa/Johannesburg:20260215T173000
DTEND;TZID=Africa/Johannesburg:20260215T190000
DTSTAMP:20260419T163054
CREATED:20260130T132347Z
LAST-MODIFIED:20260130T132347Z
UID:86395-1771176600-1771182000@www.ngkerkvrystaat.co.za
SUMMARY:Veritas | NG Gemeente Hospitaalpark
DESCRIPTION:
URL:https://www.ngkerkvrystaat.co.za/gebeure/veritas-ng-gemeente-hospitaalpark/
CATEGORIES:Dag Gebeurtenis | Gemeentes
ATTACH;FMTTYPE=image/jpeg:https://www.ngkerkvrystaat.co.za/wp-content/uploads/2026/01/Veritas-kontaksessies_NGK-Hospitaalpark.jpg
END:VEVENT
BEGIN:VEVENT
DTSTART;VALUE=DATE:20260216
DTEND;VALUE=DATE:20260217
DTSTAMP:20260419T163054
CREATED:20260114T090018Z
LAST-MODIFIED:20260121T083126Z
UID:86079-1771200000-1771286399@www.ngkerkvrystaat.co.za
SUMMARY:Praktiese Pastoraat vir Predikante in die Praktyk
DESCRIPTION:
URL:https://www.ngkerkvrystaat.co.za/gebeure/praktiese-pastoraat-vir-predikante-in-die-praktyk/
LOCATION:NG Kerk | Vrystaat | Sinode\, Van Heerdenweg 20\, Bloemfontein\, Vrystaat\, 9301\, South Africa
CATEGORIES:Bedieningsbegeleiding,Didasko | VBO
ATTACH;FMTTYPE=image/jpeg:https://www.ngkerkvrystaat.co.za/wp-content/uploads/2026/01/Praktiese-Pastoraat-vir-Predikante-in-die-Praktyk-Updated-dr-Leon.jpeg
ORGANIZER;CN="NG Kerk Vrystaat":MAILTO:skakel@ngkvs.co.za
END:VEVENT
BEGIN:VEVENT
DTSTART;VALUE=DATE:20260217
DTEND;VALUE=DATE:20260218
DTSTAMP:20260419T163054
CREATED:20260116T085117Z
LAST-MODIFIED:20260116T085117Z
UID:86102-1771286400-1771372799@www.ngkerkvrystaat.co.za
SUMMARY:Ontwerpspan Sinode
DESCRIPTION:
URL:https://www.ngkerkvrystaat.co.za/gebeure/ontwerpspan-sinode/
LOCATION:NG Kerk | Vrystaat | Sinode\, Van Heerdenweg 20\, Bloemfontein\, Vrystaat\, 9301\, South Africa
CATEGORIES:Sinode Byeenkoms
ORGANIZER;CN="NG Kerk Vrystaat":MAILTO:skakel@ngkvs.co.za
END:VEVENT
BEGIN:VEVENT
DTSTART;TZID=Africa/Johannesburg:20260217T190000
DTEND;TZID=Africa/Johannesburg:20260217T210000
DTSTAMP:20260419T163054
CREATED:20260216T134937Z
LAST-MODIFIED:20260216T135122Z
UID:86658-1771354800-1771362000@www.ngkerkvrystaat.co.za
SUMMARY:Islam vandag – Wat Christene regtig moet weet
DESCRIPTION:
URL:https://www.ngkerkvrystaat.co.za/gebeure/86658/
LOCATION:Zoom\, South Africa
CATEGORIES:Didasko | VBO,VBO Forum
ATTACH;FMTTYPE=image/jpeg:https://www.ngkerkvrystaat.co.za/wp-content/uploads/2026/02/WhatsApp-Image-2026-02-16-at-15.06.51.jpeg
ORGANIZER;CN="NG Kerk Vrystaat":MAILTO:skakel@ngkvs.co.za
END:VEVENT
BEGIN:VEVENT
DTSTART;VALUE=DATE:20240218
DTEND;VALUE=DATE:20240219
DTSTAMP:20260419T163054
CREATED:20240207T210416Z
LAST-MODIFIED:20240917T072130Z
UID:60872-1708214400-1708300799@www.ngkerkvrystaat.co.za
SUMMARY:Mev Sanet Annandale
DESCRIPTION:
URL:https://www.ngkerkvrystaat.co.za/gebeure/mev-sanet-annandale-3/
CATEGORIES:Verjaarsdae
END:VEVENT
BEGIN:VEVENT
DTSTART;VALUE=DATE:20260218
DTEND;VALUE=DATE:20260219
DTSTAMP:20260419T163054
CREATED:20251215T062327Z
LAST-MODIFIED:20251215T062327Z
UID:85709-1771372800-1771459199@www.ngkerkvrystaat.co.za
SUMMARY:Aswoensdag
DESCRIPTION:
URL:https://www.ngkerkvrystaat.co.za/gebeure/aswoensdag-3/
CATEGORIES:Kerkjaar
END:VEVENT
BEGIN:VEVENT
DTSTART;VALUE=DATE:20260218
DTEND;VALUE=DATE:20260220
DTSTAMP:20260419T163054
CREATED:20251215T062451Z
LAST-MODIFIED:20251215T062451Z
UID:85711-1771372800-1771545599@www.ngkerkvrystaat.co.za
SUMMARY:Vennote in Getuienis Raadsvergadering (Mooigenoeg)
DESCRIPTION:
URL:https://www.ngkerkvrystaat.co.za/gebeure/vennote-in-getuienis-raadsvergadering-mooigenoeg/
LOCATION:Menuha
CATEGORIES:Vennote in Getuienis
END:VEVENT
BEGIN:VEVENT
DTSTART;VALUE=DATE:20260220
DTEND;VALUE=DATE:20260221
DTSTAMP:20260419T163054
CREATED:20251215T062533Z
LAST-MODIFIED:20251215T062533Z
UID:85713-1771545600-1771631999@www.ngkerkvrystaat.co.za
SUMMARY:Vrypos
DESCRIPTION:
URL:https://www.ngkerkvrystaat.co.za/gebeure/vrypos-23/
CATEGORIES:VRYPOS
END:VEVENT
BEGIN:VEVENT
DTSTART;VALUE=DATE:20260220
DTEND;VALUE=DATE:20260221
DTSTAMP:20260419T163054
CREATED:20260130T132904Z
LAST-MODIFIED:20260130T132904Z
UID:86403-1771545600-1771631999@www.ngkerkvrystaat.co.za
SUMMARY:Vrouekamp: "God roep jou" | Vrouebediening
DESCRIPTION:
URL:https://www.ngkerkvrystaat.co.za/gebeure/vrouekamp-god-roep-jou-vrouebediening/
CATEGORIES:Dag Gebeurtenis | Gemeentes,Vrouebediening
ATTACH;FMTTYPE=image/jpeg:https://www.ngkerkvrystaat.co.za/wp-content/uploads/2026/01/FINAL-1.jpg
END:VEVENT
END:VCALENDAR