BEGIN:VCALENDAR
VERSION:2.0
PRODID:-//NG Kerk Vrystaat - ECPv6.15.20//NONSGML v1.0//EN
CALSCALE:GREGORIAN
METHOD:PUBLISH
X-ORIGINAL-URL:https://www.ngkerkvrystaat.co.za
X-WR-CALDESC:Events for NG Kerk Vrystaat
REFRESH-INTERVAL;VALUE=DURATION:PT1H
X-Robots-Tag:noindex
X-PUBLISHED-TTL:PT1H
BEGIN:VTIMEZONE
TZID:Africa/Johannesburg
BEGIN:STANDARD
TZOFFSETFROM:+0200
TZOFFSETTO:+0200
TZNAME:SAST
DTSTART:20220101T000000
END:STANDARD
END:VTIMEZONE
BEGIN:VEVENT
DTSTART;TZID=Africa/Johannesburg:20230202T000000
DTEND;TZID=Africa/Johannesburg:20230202T235959
DTSTAMP:20260421T234130
CREATED:20221214T064626Z
LAST-MODIFIED:20221214T081741Z
UID:28691-1675296000-1675382399@www.ngkerkvrystaat.co.za
SUMMARY:Raad Bedieningsbegeleiding
DESCRIPTION:
URL:https://www.ngkerkvrystaat.co.za/gebeure/raad-bedieningsbegeleiding-2/
CATEGORIES:Vennote in Getuienis
END:VEVENT
BEGIN:VEVENT
DTSTART;TZID=Africa/Johannesburg:20230203T000000
DTEND;TZID=Africa/Johannesburg:20230203T235959
DTSTAMP:20260421T234130
CREATED:20221214T064626Z
LAST-MODIFIED:20221214T081804Z
UID:28688-1675382400-1675468799@www.ngkerkvrystaat.co.za
SUMMARY:Kommunikasie & Bemarking
DESCRIPTION:
URL:https://www.ngkerkvrystaat.co.za/gebeure/kommunikasie-bemarking/
CATEGORIES:Ondersteuning
END:VEVENT
BEGIN:VEVENT
DTSTART;TZID=Africa/Johannesburg:20230203T000000
DTEND;TZID=Africa/Johannesburg:20230203T235959
DTSTAMP:20260421T234130
CREATED:20221214T064627Z
LAST-MODIFIED:20221214T081839Z
UID:28692-1675382400-1675468799@www.ngkerkvrystaat.co.za
SUMMARY:Kantoorhoofde
DESCRIPTION:
URL:https://www.ngkerkvrystaat.co.za/gebeure/kantoorhoofde-3/
CATEGORIES:Ondersteuning
END:VEVENT
BEGIN:VEVENT
DTSTART;VALUE=DATE:20230204
DTEND;VALUE=DATE:20230205
DTSTAMP:20260421T234130
CREATED:20230105T064149Z
LAST-MODIFIED:20240917T071055Z
UID:29667-1675468800-1675555199@www.ngkerkvrystaat.co.za
SUMMARY:Ds Dubois du Toit
DESCRIPTION:
URL:https://www.ngkerkvrystaat.co.za/gebeure/ds-dubois-du-toit/
CATEGORIES:Verjaarsdae
END:VEVENT
BEGIN:VEVENT
DTSTART;TZID=Africa/Johannesburg:20230206T000000
DTEND;TZID=Africa/Johannesburg:20230208T235959
DTSTAMP:20260421T234130
CREATED:20221214T064640Z
LAST-MODIFIED:20221214T082044Z
UID:28696-1675641600-1675900799@www.ngkerkvrystaat.co.za
SUMMARY:Diverse Bane Retreat | Menuha
DESCRIPTION:
URL:https://www.ngkerkvrystaat.co.za/gebeure/diverse-bane-retreat-menuha/
CATEGORIES:Bedieningsbegeleiding
END:VEVENT
BEGIN:VEVENT
DTSTART;TZID=Africa/Johannesburg:20230207T000000
DTEND;TZID=Africa/Johannesburg:20230207T235959
DTSTAMP:20260421T234130
CREATED:20221214T064640Z
LAST-MODIFIED:20221214T081905Z
UID:28694-1675728000-1675814399@www.ngkerkvrystaat.co.za
SUMMARY:Argiefkomitee of
DESCRIPTION:
URL:https://www.ngkerkvrystaat.co.za/gebeure/argiefkomitee-of/
CATEGORIES:Ondersteuning
END:VEVENT
BEGIN:VEVENT
DTSTART;TZID=Africa/Johannesburg:20230208T000000
DTEND;TZID=Africa/Johannesburg:20230208T235959
DTSTAMP:20260421T234130
CREATED:20221214T064640Z
LAST-MODIFIED:20221214T081918Z
UID:28695-1675814400-1675900799@www.ngkerkvrystaat.co.za
SUMMARY:Argiefkomitee
DESCRIPTION:
URL:https://www.ngkerkvrystaat.co.za/gebeure/argiefkomitee/
CATEGORIES:Ondersteuning
END:VEVENT
BEGIN:VEVENT
DTSTART;TZID=Africa/Johannesburg:20230209T000000
DTEND;TZID=Africa/Johannesburg:20230209T235959
DTSTAMP:20260421T234130
CREATED:20221214T064641Z
LAST-MODIFIED:20221214T081938Z
UID:28697-1675900800-1675987199@www.ngkerkvrystaat.co.za
SUMMARY:Barmhartigheid Dagbestuur
DESCRIPTION:
URL:https://www.ngkerkvrystaat.co.za/gebeure/barmhartigheid-dagbestuur/
CATEGORIES:Diens van Barmhartigheid
END:VEVENT
BEGIN:VEVENT
DTSTART;TZID=Africa/Johannesburg:20230211T000000
DTEND;TZID=Africa/Johannesburg:20230211T235959
DTSTAMP:20260421T234130
CREATED:20221214T064641Z
LAST-MODIFIED:20221214T092235Z
UID:28698-1676073600-1676159999@www.ngkerkvrystaat.co.za
SUMMARY:Sinodale Vrouekonferensie te Universitas Geloofsentrum
DESCRIPTION:Tel die tyd af \n\n\n\n\n\n\n\n00Days00Hours00Minutes00Seconds
URL:https://www.ngkerkvrystaat.co.za/gebeure/sinodale-vrouekonferensie-te-universitas-geloofsentrum/
CATEGORIES:Visionering
ATTACH;FMTTYPE=image/png:https://www.ngkerkvrystaat.co.za/wp-content/uploads/2022/12/Instagram_Vertical-dimensions.png
END:VEVENT
BEGIN:VEVENT
DTSTART;VALUE=DATE:20230211
DTEND;VALUE=DATE:20230212
DTSTAMP:20260421T234130
CREATED:20230105T064149Z
LAST-MODIFIED:20240917T071020Z
UID:29668-1676073600-1676159999@www.ngkerkvrystaat.co.za
SUMMARY:Dr Pierre Guillaume
DESCRIPTION:
URL:https://www.ngkerkvrystaat.co.za/gebeure/dr-pierre-guillaume/
CATEGORIES:Verjaarsdae
END:VEVENT
BEGIN:VEVENT
DTSTART;TZID=Africa/Johannesburg:20230212T000000
DTEND;TZID=Africa/Johannesburg:20230212T235959
DTSTAMP:20260421T234130
CREATED:20221214T064655Z
LAST-MODIFIED:20221214T064655Z
UID:28699-1676160000-1676246399@www.ngkerkvrystaat.co.za
SUMMARY:Sinodale Dankdag
DESCRIPTION:
URL:https://www.ngkerkvrystaat.co.za/gebeure/sinodale-dankdag/
END:VEVENT
BEGIN:VEVENT
DTSTART;TZID=Africa/Johannesburg:20230212T000000
DTEND;TZID=Africa/Johannesburg:20230212T235959
DTSTAMP:20260421T234130
CREATED:20221214T064655Z
LAST-MODIFIED:20221214T082016Z
UID:28700-1676160000-1676246399@www.ngkerkvrystaat.co.za
SUMMARY:Ontmoetingsretreat BDiv1 | Menuha
DESCRIPTION:
URL:https://www.ngkerkvrystaat.co.za/gebeure/ontmoetingsretreat-bdiv1-menuha/
CATEGORIES:Bedieningsbegeleiding
END:VEVENT
BEGIN:VEVENT
DTSTART;TZID=Africa/Johannesburg:20230213T000000
DTEND;TZID=Africa/Johannesburg:20230213T235959
DTSTAMP:20260421T234130
CREATED:20230105T064149Z
LAST-MODIFIED:20230206T133640Z
UID:29669-1676246400-1676332799@www.ngkerkvrystaat.co.za
SUMMARY:Ds Piet Fourie
DESCRIPTION:
URL:https://www.ngkerkvrystaat.co.za/gebeure/ds-piet-fourie/
CATEGORIES:Verjaarsdae
END:VEVENT
BEGIN:VEVENT
DTSTART;TZID=Africa/Johannesburg:20230213T000000
DTEND;TZID=Africa/Johannesburg:20230213T235959
DTSTAMP:20260421T234130
CREATED:20230105T064149Z
LAST-MODIFIED:20230206T133635Z
UID:29670-1676246400-1676332799@www.ngkerkvrystaat.co.za
SUMMARY:Ds Gerber Roux
DESCRIPTION:
URL:https://www.ngkerkvrystaat.co.za/gebeure/ds-gerber-roux/
CATEGORIES:Verjaarsdae
END:VEVENT
BEGIN:VEVENT
DTSTART;TZID=Africa/Johannesburg:20230214T000000
DTEND;TZID=Africa/Johannesburg:20230214T235959
DTSTAMP:20260421T234130
CREATED:20221214T064655Z
LAST-MODIFIED:20221214T082028Z
UID:28701-1676332800-1676419199@www.ngkerkvrystaat.co.za
SUMMARY:Sinodale Begrotingskomitee
DESCRIPTION:
URL:https://www.ngkerkvrystaat.co.za/gebeure/sinodale-begrotingskomitee/
CATEGORIES:Visionering
END:VEVENT
BEGIN:VEVENT
DTSTART;TZID=Africa/Johannesburg:20230215T000000
DTEND;TZID=Africa/Johannesburg:20230215T235959
DTSTAMP:20260421T234130
CREATED:20221214T064656Z
LAST-MODIFIED:20221214T082123Z
UID:28702-1676419200-1676505599@www.ngkerkvrystaat.co.za
SUMMARY:Seminarium aanbieders
DESCRIPTION:
URL:https://www.ngkerkvrystaat.co.za/gebeure/seminarium-aanbieders/
CATEGORIES:Bedieningsbegeleiding
END:VEVENT
BEGIN:VEVENT
DTSTART;TZID=Africa/Johannesburg:20230215T000000
DTEND;TZID=Africa/Johannesburg:20230215T235959
DTSTAMP:20260421T234130
CREATED:20230105T064149Z
LAST-MODIFIED:20230206T133646Z
UID:29671-1676419200-1676505599@www.ngkerkvrystaat.co.za
SUMMARY:Ds Chris de Vries
DESCRIPTION:
URL:https://www.ngkerkvrystaat.co.za/gebeure/ds-chris-de-vries/
CATEGORIES:Verjaarsdae
END:VEVENT
BEGIN:VEVENT
DTSTART;TZID=Africa/Johannesburg:20230215T000000
DTEND;TZID=Africa/Johannesburg:20230215T235959
DTSTAMP:20260421T234130
CREATED:20230105T064153Z
LAST-MODIFIED:20230206T133649Z
UID:29672-1676419200-1676505599@www.ngkerkvrystaat.co.za
SUMMARY:Ds Ferdi Retrief
DESCRIPTION:
URL:https://www.ngkerkvrystaat.co.za/gebeure/ds-ferdi-retrief/
CATEGORIES:Verjaarsdae
END:VEVENT
BEGIN:VEVENT
DTSTART;TZID=Africa/Johannesburg:20230216T000000
DTEND;TZID=Africa/Johannesburg:20230216T235959
DTSTAMP:20260421T234130
CREATED:20221214T064656Z
LAST-MODIFIED:20221214T082128Z
UID:28703-1676505600-1676591999@www.ngkerkvrystaat.co.za
SUMMARY:Beurskomitee
DESCRIPTION:
URL:https://www.ngkerkvrystaat.co.za/gebeure/beurskomitee/
CATEGORIES:Ondersteuning
END:VEVENT
BEGIN:VEVENT
DTSTART;TZID=Africa/Johannesburg:20230217T000000
DTEND;TZID=Africa/Johannesburg:20230217T235959
DTSTAMP:20260421T234130
CREATED:20221214T064710Z
LAST-MODIFIED:20221214T082137Z
UID:28704-1676592000-1676678399@www.ngkerkvrystaat.co.za
SUMMARY:Kantoorhoofde
DESCRIPTION:
URL:https://www.ngkerkvrystaat.co.za/gebeure/kantoorhoofde-4/
CATEGORIES:Ondersteuning
END:VEVENT
BEGIN:VEVENT
DTSTART;TZID=Africa/Johannesburg:20230217T000000
DTEND;TZID=Africa/Johannesburg:20230219T235959
DTSTAMP:20260421T234130
CREATED:20221214T064710Z
LAST-MODIFIED:20221214T082159Z
UID:28706-1676592000-1676851199@www.ngkerkvrystaat.co.za
SUMMARY:Roepingsretreat vir gemeentejaars
DESCRIPTION:
URL:https://www.ngkerkvrystaat.co.za/gebeure/roepingsretreat-vir-gemeentejaars/
CATEGORIES:Bedieningsbegeleiding
END:VEVENT
BEGIN:VEVENT
DTSTART;TZID=Africa/Johannesburg:20230217T000000
DTEND;TZID=Africa/Johannesburg:20230219T235959
DTSTAMP:20260421T234130
CREATED:20221214T064710Z
LAST-MODIFIED:20221214T064710Z
UID:28705-1676592000-1676851199@www.ngkerkvrystaat.co.za
SUMMARY:NG Kerk-familiekamp
DESCRIPTION:
URL:https://www.ngkerkvrystaat.co.za/gebeure/ng-kerk-familiekamp/
END:VEVENT
BEGIN:VEVENT
DTSTART;TZID=Africa/Johannesburg:20230218T000000
DTEND;TZID=Africa/Johannesburg:20230218T235959
DTSTAMP:20260421T234130
CREATED:20230105T064153Z
LAST-MODIFIED:20230206T133653Z
UID:29673-1676678400-1676764799@www.ngkerkvrystaat.co.za
SUMMARY:Mev Sanet Annandale
DESCRIPTION:
URL:https://www.ngkerkvrystaat.co.za/gebeure/mev-sanet-annandale/
CATEGORIES:Verjaarsdae
END:VEVENT
BEGIN:VEVENT
DTSTART;TZID=Africa/Johannesburg:20230219T000000
DTEND;TZID=Africa/Johannesburg:20230219T235959
DTSTAMP:20260421T234130
CREATED:20230206T153253Z
LAST-MODIFIED:20230206T154125Z
UID:35651-1676764800-1676851199@www.ngkerkvrystaat.co.za
SUMMARY:Verheerlikingsondag
DESCRIPTION:
URL:https://www.ngkerkvrystaat.co.za/gebeure/verheerlikingsondag/
ATTACH;FMTTYPE=image/png:https://www.ngkerkvrystaat.co.za/wp-content/uploads/2023/02/Verheelikings-Sondag.png
END:VEVENT
BEGIN:VEVENT
DTSTART;TZID=Africa/Johannesburg:20230219T000000
DTEND;TZID=Africa/Johannesburg:20230219T120000
DTSTAMP:20260421T234130
CREATED:20200504T160421Z
LAST-MODIFIED:20230421T084449Z
UID:1737-1676764800-1676808000@www.ngkerkvrystaat.co.za
SUMMARY:Lydenstyd
DESCRIPTION:Matt 17:1-8 | Ses dae later het Jesus vir Petrus en Jakobus en sy broer Johannes saamgeneem en hulle op ‘n hoë berg gebring waar hulle alleen was. Daar het sy voorkoms voor hulle oë verander: sy gesig het begin straal soos die son\, en sy klere het wit geword soos die lig. Skielik het Moses en Elia aan hulle verskyn en met Jesus gepraat. Toe sê Petrus vir Jesus: “Here\, dit is goed dat ons hier is. As U wil\, sal ek hier drie hutte bou: een vir U\, een vir Moses en een vir Elia.” Terwyl hy nog praat\, het ‘n helderligte wolk skielik sy skaduwee oor hulle gegooi\, en ‘n stem uit die wolk het gesê: “Dit is my geliefde Seun oor wie Ek My verheug. Luister na Hom.” Toe sy dissipels dit hoor\, het hulle baie bang geword en op die grond neergeval. Maar Jesus het na hulle toe gekom\, hulle aangeraak en gesê: “Staan op en moenie bang wees nie.” Toe hulle opkyk\, het hulle niemand gesien nie\, net Jesus alleen. \nLydenstyd is ’n seisoen van 46 dae waarin die kerk met vreugde\, erns en pyn die versoenende sterwe van Jesus verkondig\, deur sy lyding in herinnering te roep endaarop te reageer in voorbereiding op die Paasfees. Ons dink terug aan die verheerliking van Jesus Christus op die Berg. Hier was die Godheid en Koningskap van Jesus Christus reeds sigbaar. \nHierdie verheerliking het Jesus Christus se lydenstyd ingelei. \nKleure: Wynrooi of Pers \nTydperk: 6 weke (40 dae\, Sondae uitgesluit) vanaf Aswoensdag tot en met Goeie Vrydag \nOorgeneem uit Visuele konsep voorstelling van kerkjaarkalender deur NGK Durbanville-Bergsig
URL:https://www.ngkerkvrystaat.co.za/gebeure/lydenstyd/
LOCATION:NG Kerk | Vrystaat | Sinode\, Van Heerdenweg 20\, Bloemfontein\, Vrystaat\, 9301\, South Africa
CATEGORIES:Kerkjaar
ATTACH;FMTTYPE=image/png:https://www.ngkerkvrystaat.co.za/wp-content/uploads/2020/04/Lydenstyd.png
END:VEVENT
BEGIN:VEVENT
DTSTART;TZID=Africa/Johannesburg:20230220T000000
DTEND;TZID=Africa/Johannesburg:20230220T235959
DTSTAMP:20260421T234130
CREATED:20221214T064711Z
LAST-MODIFIED:20221214T082214Z
UID:28708-1676851200-1676937599@www.ngkerkvrystaat.co.za
SUMMARY:PG Dip Blok 1
DESCRIPTION:
URL:https://www.ngkerkvrystaat.co.za/gebeure/pg-dip-blok-1/
CATEGORIES:Bedieningsbegeleiding
END:VEVENT
BEGIN:VEVENT
DTSTART;TZID=Africa/Johannesburg:20230220T000000
DTEND;TZID=Africa/Johannesburg:20230220T235959
DTSTAMP:20260421T234130
CREATED:20221214T064725Z
LAST-MODIFIED:20221214T082222Z
UID:28713-1676851200-1676937599@www.ngkerkvrystaat.co.za
SUMMARY:Faktulteits-opening | Oggend
DESCRIPTION:
URL:https://www.ngkerkvrystaat.co.za/gebeure/faktulteits-opening-oggend/
CATEGORIES:Bedieningsbegeleiding
END:VEVENT
BEGIN:VEVENT
DTSTART;TZID=Africa/Johannesburg:20230220T000000
DTEND;TZID=Africa/Johannesburg:20230220T235959
DTSTAMP:20260421T234130
CREATED:20221214T064740Z
LAST-MODIFIED:20221214T082227Z
UID:28714-1676851200-1676937599@www.ngkerkvrystaat.co.za
SUMMARY:Seminarium- opening | Middag
DESCRIPTION:
URL:https://www.ngkerkvrystaat.co.za/gebeure/seminarium-opening-middag/
CATEGORIES:Bedieningsbegeleiding
END:VEVENT
BEGIN:VEVENT
DTSTART;TZID=Africa/Johannesburg:20230221T000000
DTEND;TZID=Africa/Johannesburg:20230221T235959
DTSTAMP:20260421T234130
CREATED:20221214T064725Z
LAST-MODIFIED:20221214T082232Z
UID:28709-1676937600-1677023999@www.ngkerkvrystaat.co.za
SUMMARY:PG Dip Blok 1
DESCRIPTION:
URL:https://www.ngkerkvrystaat.co.za/gebeure/pg-dip-blok-1-2/
CATEGORIES:Bedieningsbegeleiding
END:VEVENT
BEGIN:VEVENT
DTSTART;TZID=Africa/Johannesburg:20230221T000000
DTEND;TZID=Africa/Johannesburg:20230221T235959
DTSTAMP:20260421T234130
CREATED:20221214T064740Z
LAST-MODIFIED:20221214T082241Z
UID:28715-1676937600-1677023999@www.ngkerkvrystaat.co.za
SUMMARY:Ouditkomitee
DESCRIPTION:
URL:https://www.ngkerkvrystaat.co.za/gebeure/ouditkomitee/
CATEGORIES:Ondersteuning
END:VEVENT
END:VCALENDAR