BEGIN:VCALENDAR
VERSION:2.0
PRODID:-//NG Kerk Vrystaat - ECPv6.15.20//NONSGML v1.0//EN
CALSCALE:GREGORIAN
METHOD:PUBLISH
X-WR-CALNAME:NG Kerk Vrystaat
X-ORIGINAL-URL:https://www.ngkerkvrystaat.co.za
X-WR-CALDESC:Events for NG Kerk Vrystaat
REFRESH-INTERVAL;VALUE=DURATION:PT1H
X-Robots-Tag:noindex
X-PUBLISHED-TTL:PT1H
BEGIN:VTIMEZONE
TZID:Africa/Johannesburg
BEGIN:STANDARD
TZOFFSETFROM:+0200
TZOFFSETTO:+0200
TZNAME:SAST
DTSTART:20250101T000000
END:STANDARD
END:VTIMEZONE
BEGIN:VEVENT
DTSTART;TZID=Africa/Johannesburg:20260512T190000
DTEND;TZID=Africa/Johannesburg:20260512T210000
DTSTAMP:20260425T225222
CREATED:20260415T135319Z
LAST-MODIFIED:20260417T085337Z
UID:87465-1778612400-1778619600@www.ngkerkvrystaat.co.za
SUMMARY:Narratiewe Pastoraat | Didasko
DESCRIPTION:Vergadering-ID: 815 3485 4689 \nToegangskode: 393112\n 
URL:https://www.ngkerkvrystaat.co.za/gebeure/narratiewe-pastoraat-didasko-2/
LOCATION:Zoom\, South Africa
CATEGORIES:Didasko | VBO,VBO Forum
ATTACH;FMTTYPE=image/jpeg:https://www.ngkerkvrystaat.co.za/wp-content/uploads/2026/04/DIDASKO_Narratiewe-Pastoraat_12-Mei-2026.jpg
END:VEVENT
END:VCALENDAR