BEGIN:VCALENDAR
VERSION:2.0
PRODID:-//NG Kerk Vrystaat - ECPv6.15.20//NONSGML v1.0//EN
CALSCALE:GREGORIAN
METHOD:PUBLISH
X-ORIGINAL-URL:https://www.ngkerkvrystaat.co.za
X-WR-CALDESC:Events for NG Kerk Vrystaat
REFRESH-INTERVAL;VALUE=DURATION:PT1H
X-Robots-Tag:noindex
X-PUBLISHED-TTL:PT1H
BEGIN:VTIMEZONE
TZID:Africa/Johannesburg
BEGIN:STANDARD
TZOFFSETFROM:+0200
TZOFFSETTO:+0200
TZNAME:SAST
DTSTART:20250101T000000
END:STANDARD
END:VTIMEZONE
BEGIN:VEVENT
DTSTART;TZID=Africa/Johannesburg:20260428T190000
DTEND;TZID=Africa/Johannesburg:20260428T210000
DTSTAMP:20260425T210722
CREATED:20260416T071336Z
LAST-MODIFIED:20260417T085219Z
UID:87470-1777402800-1777410000@www.ngkerkvrystaat.co.za
SUMMARY:Narratiewe Pastoraat | Didasko
DESCRIPTION:Vergadering-ID: 884 0367 4470 \nToegangskode: 585778\n 
URL:https://www.ngkerkvrystaat.co.za/gebeure/narratiewe-pastoraat-didasko-4/
LOCATION:Zoom\, South Africa
CATEGORIES:Didasko | VBO,VBO Forum
ATTACH;FMTTYPE=image/jpeg:https://www.ngkerkvrystaat.co.za/wp-content/uploads/2026/04/DIDASKO_Narratiewe-Pastoraat_28-April-2026.jpg
END:VEVENT
END:VCALENDAR