BEGIN:VCALENDAR
VERSION:2.0
PRODID:-//NG Kerk Vrystaat - ECPv6.15.20//NONSGML v1.0//EN
CALSCALE:GREGORIAN
METHOD:PUBLISH
X-WR-CALNAME:NG Kerk Vrystaat
X-ORIGINAL-URL:https://www.ngkerkvrystaat.co.za
X-WR-CALDESC:Events for NG Kerk Vrystaat
REFRESH-INTERVAL;VALUE=DURATION:PT1H
X-Robots-Tag:noindex
X-PUBLISHED-TTL:PT1H
BEGIN:VTIMEZONE
TZID:Africa/Johannesburg
BEGIN:STANDARD
TZOFFSETFROM:+0200
TZOFFSETTO:+0200
TZNAME:SAST
DTSTART:20240101T000000
END:STANDARD
END:VTIMEZONE
BEGIN:VEVENT
DTSTART;VALUE=DATE:20250321
DTEND;VALUE=DATE:20250322
DTSTAMP:20260422T032556
CREATED:20240917T115528Z
LAST-MODIFIED:20240917T115528Z
UID:74786-1742515200-1742601599@www.ngkerkvrystaat.co.za
SUMMARY:Menseregtedag
DESCRIPTION:
URL:https://www.ngkerkvrystaat.co.za/gebeure/menseregtedag-2/
CATEGORIES:Publieke Vakansiedag
END:VEVENT
BEGIN:VEVENT
DTSTART;VALUE=DATE:20260321
DTEND;VALUE=DATE:20260322
DTSTAMP:20260422T032556
CREATED:20251215T073450Z
LAST-MODIFIED:20251215T073450Z
UID:85765-1774051200-1774137599@www.ngkerkvrystaat.co.za
SUMMARY:Menseregtedag
DESCRIPTION:
URL:https://www.ngkerkvrystaat.co.za/gebeure/menseregtedag-3/
CATEGORIES:Publieke Vakansiedag
END:VEVENT
END:VCALENDAR