BEGIN:VCALENDAR
VERSION:2.0
PRODID:-//NG Kerk Vrystaat - ECPv6.15.20//NONSGML v1.0//EN
CALSCALE:GREGORIAN
METHOD:PUBLISH
X-ORIGINAL-URL:https://www.ngkerkvrystaat.co.za
X-WR-CALDESC:Events for NG Kerk Vrystaat
REFRESH-INTERVAL;VALUE=DURATION:PT1H
X-Robots-Tag:noindex
X-PUBLISHED-TTL:PT1H
BEGIN:VTIMEZONE
TZID:Africa/Johannesburg
BEGIN:STANDARD
TZOFFSETFROM:+0200
TZOFFSETTO:+0200
TZNAME:SAST
DTSTART:20250101T000000
END:STANDARD
END:VTIMEZONE
BEGIN:VEVENT
DTSTART;VALUE=DATE:20260422
DTEND;VALUE=DATE:20260423
DTSTAMP:20260425T140332
CREATED:20260415T132255Z
LAST-MODIFIED:20260415T132255Z
UID:87452-1776816000-1776902399@www.ngkerkvrystaat.co.za
SUMMARY:Skriba Opleiding | NG Gemeente Kroonstad-Suid
DESCRIPTION:
URL:https://www.ngkerkvrystaat.co.za/gebeure/skriba-opleiding-ng-gemeente-kroonstad-suid/
LOCATION:NG Kerk | Kroonstad-Suid
CATEGORIES:Ondersteuning
ATTACH;FMTTYPE=image/jpeg:https://www.ngkerkvrystaat.co.za/wp-content/uploads/2026/04/Skriba-Opleiding.jpeg
END:VEVENT
END:VCALENDAR