BEGIN:VCALENDAR
VERSION:2.0
PRODID:-//NG Kerk Vrystaat - ECPv6.15.20//NONSGML v1.0//EN
CALSCALE:GREGORIAN
METHOD:PUBLISH
X-WR-CALNAME:NG Kerk Vrystaat
X-ORIGINAL-URL:https://www.ngkerkvrystaat.co.za
X-WR-CALDESC:Events for NG Kerk Vrystaat
REFRESH-INTERVAL;VALUE=DURATION:PT1H
X-Robots-Tag:noindex
X-PUBLISHED-TTL:PT1H
BEGIN:VTIMEZONE
TZID:Africa/Johannesburg
BEGIN:STANDARD
TZOFFSETFROM:+0200
TZOFFSETTO:+0200
TZNAME:SAST
DTSTART:20250101T000000
END:STANDARD
END:VTIMEZONE
BEGIN:VEVENT
DTSTART;VALUE=DATE:20260409
DTEND;VALUE=DATE:20260410
DTSTAMP:20260425T140150
CREATED:20260319T134322Z
LAST-MODIFIED:20260320T084042Z
UID:87293-1775692800-1775779199@www.ngkerkvrystaat.co.za
SUMMARY:Skriba Opleiding 2-sessie met Tertius Botha as fasiliteerder
DESCRIPTION:
URL:https://www.ngkerkvrystaat.co.za/gebeure/skriba-opleiding-2-sessie-met-tertius-botha-as-fasiliteerder-2/
LOCATION:NG Kerk | Vrystaat | Sinode\, Van Heerdenweg 20\, Bloemfontein\, Vrystaat\, 9301\, South Africa
CATEGORIES:Ondersteuning
ATTACH;FMTTYPE=image/jpeg:https://www.ngkerkvrystaat.co.za/wp-content/uploads/2026/03/WhatsApp-Image-2026-03-19-at-15.27.31.jpeg
END:VEVENT
END:VCALENDAR