BEGIN:VCALENDAR
VERSION:2.0
PRODID:-//NG Kerk Vrystaat - ECPv6.15.20//NONSGML v1.0//EN
CALSCALE:GREGORIAN
METHOD:PUBLISH
X-ORIGINAL-URL:https://www.ngkerkvrystaat.co.za
X-WR-CALDESC:Events for NG Kerk Vrystaat
REFRESH-INTERVAL;VALUE=DURATION:PT1H
X-Robots-Tag:noindex
X-PUBLISHED-TTL:PT1H
BEGIN:VTIMEZONE
TZID:Africa/Johannesburg
BEGIN:STANDARD
TZOFFSETFROM:+0200
TZOFFSETTO:+0200
TZNAME:SAST
DTSTART:20250101T000000
END:STANDARD
END:VTIMEZONE
BEGIN:VEVENT
DTSTART;VALUE=DATE:20260302
DTEND;VALUE=DATE:20260306
DTSTAMP:20260419T165448
CREATED:20251215T063841Z
LAST-MODIFIED:20251215T063841Z
UID:85732-1772409600-1772755199@www.ngkerkvrystaat.co.za
SUMMARY:Mth I en II Blokweek
DESCRIPTION:
URL:https://www.ngkerkvrystaat.co.za/gebeure/mth-i-en-ii-blokweek/
LOCATION:Raadsaal
CATEGORIES:Kuratorium
END:VEVENT
BEGIN:VEVENT
DTSTART;VALUE=DATE:20260311
DTEND;VALUE=DATE:20260312
DTSTAMP:20260419T165448
CREATED:20251215T072659Z
LAST-MODIFIED:20251215T072659Z
UID:85751-1773187200-1773273599@www.ngkerkvrystaat.co.za
SUMMARY:Mth 1 & 2 - Evalueringsvraestel
DESCRIPTION:
URL:https://www.ngkerkvrystaat.co.za/gebeure/mth-1-2-evalueringsvraestel/
LOCATION:NG Kerk | Vrystaat | Sinode\, Van Heerdenweg 20\, Bloemfontein\, Vrystaat\, 9301\, South Africa
CATEGORIES:Kuratorium
END:VEVENT
BEGIN:VEVENT
DTSTART;VALUE=DATE:20260320
DTEND;VALUE=DATE:20260322
DTSTAMP:20260419T165448
CREATED:20251215T073353Z
LAST-MODIFIED:20251215T073353Z
UID:85763-1773964800-1774137599@www.ngkerkvrystaat.co.za
SUMMARY:Stilretreat
DESCRIPTION:
URL:https://www.ngkerkvrystaat.co.za/gebeure/stilretreat/
LOCATION:Menuha
CATEGORIES:Kuratorium
END:VEVENT
BEGIN:VEVENT
DTSTART;VALUE=DATE:20260323
DTEND;VALUE=DATE:20260326
DTSTAMP:20260419T165448
CREATED:20251215T073742Z
LAST-MODIFIED:20251215T073742Z
UID:85771-1774224000-1774483199@www.ngkerkvrystaat.co.za
SUMMARY:Div Bane\, Hug Kol & PGDip Retreat
DESCRIPTION:
URL:https://www.ngkerkvrystaat.co.za/gebeure/div-bane-hug-kol-pgdip-retreat/
CATEGORIES:Kuratorium
END:VEVENT
END:VCALENDAR