BEGIN:VCALENDAR
VERSION:2.0
PRODID:-//NG Kerk Vrystaat - ECPv6.15.20//NONSGML v1.0//EN
CALSCALE:GREGORIAN
METHOD:PUBLISH
X-WR-CALNAME:NG Kerk Vrystaat
X-ORIGINAL-URL:https://www.ngkerkvrystaat.co.za
X-WR-CALDESC:Events for NG Kerk Vrystaat
REFRESH-INTERVAL;VALUE=DURATION:PT1H
X-Robots-Tag:noindex
X-PUBLISHED-TTL:PT1H
BEGIN:VTIMEZONE
TZID:Africa/Johannesburg
BEGIN:STANDARD
TZOFFSETFROM:+0200
TZOFFSETTO:+0200
TZNAME:SAST
DTSTART:20250101T000000
END:STANDARD
END:VTIMEZONE
BEGIN:VEVENT
DTSTART;TZID=Africa/Johannesburg:20260328T090000
DTEND;TZID=Africa/Johannesburg:20260330T170000
DTSTAMP:20260422T051217
CREATED:20251215T073901Z
LAST-MODIFIED:20260302T130817Z
UID:85773-1774688400-1774890000@www.ngkerkvrystaat.co.za
SUMMARY:Palmsondag
DESCRIPTION:
URL:https://www.ngkerkvrystaat.co.za/gebeure/palmsondag-3/
LOCATION:Nampo Park\, R30\, Bothaville\, Freestate\, 9660\, South Africa
CATEGORIES:Kerkjaar,Ondersteuning
END:VEVENT
END:VCALENDAR