BEGIN:VCALENDAR
VERSION:2.0
PRODID:-//NG Kerk Vrystaat - ECPv6.15.20//NONSGML v1.0//EN
CALSCALE:GREGORIAN
METHOD:PUBLISH
X-ORIGINAL-URL:https://www.ngkerkvrystaat.co.za
X-WR-CALDESC:Events for NG Kerk Vrystaat
REFRESH-INTERVAL;VALUE=DURATION:PT1H
X-Robots-Tag:noindex
X-PUBLISHED-TTL:PT1H
BEGIN:VTIMEZONE
TZID:Africa/Johannesburg
BEGIN:STANDARD
TZOFFSETFROM:+0200
TZOFFSETTO:+0200
TZNAME:SAST
DTSTART:20240101T000000
END:STANDARD
END:VTIMEZONE
BEGIN:VEVENT
DTSTART;TZID=Africa/Johannesburg:20251031T090000
DTEND;TZID=Africa/Johannesburg:20251031T130000
DTSTAMP:20260420T224108
CREATED:20250919T121316Z
LAST-MODIFIED:20250919T121316Z
UID:84816-1761901200-1761915600@www.ngkerkvrystaat.co.za
SUMMARY:Basaar by Huis Sorgvry | NG Gemeente Reitz-Wes
DESCRIPTION:
URL:https://www.ngkerkvrystaat.co.za/gebeure/basaar-by-huis-sorgvry-ng-gemeente-reitz-wes/
CATEGORIES:Basaar,Dag Gebeurtenis | Gemeentes
ATTACH;FMTTYPE=image/jpeg:https://www.ngkerkvrystaat.co.za/wp-content/uploads/2025/09/547646763_1223003513203152_7528636347205783903_n.jpg
END:VEVENT
END:VCALENDAR