BEGIN:VCALENDAR
VERSION:2.0
PRODID:-//NG Kerk Vrystaat - ECPv6.15.20//NONSGML v1.0//EN
CALSCALE:GREGORIAN
METHOD:PUBLISH
X-WR-CALNAME:NG Kerk Vrystaat
X-ORIGINAL-URL:https://www.ngkerkvrystaat.co.za
X-WR-CALDESC:Events for NG Kerk Vrystaat
REFRESH-INTERVAL;VALUE=DURATION:PT1H
X-Robots-Tag:noindex
X-PUBLISHED-TTL:PT1H
BEGIN:VTIMEZONE
TZID:Africa/Johannesburg
BEGIN:STANDARD
TZOFFSETFROM:+0200
TZOFFSETTO:+0200
TZNAME:SAST
DTSTART:20240101T000000
END:STANDARD
END:VTIMEZONE
BEGIN:VEVENT
DTSTART;VALUE=DATE:20250919
DTEND;VALUE=DATE:20250920
DTSTAMP:20260421T014454
CREATED:20250912T081118Z
LAST-MODIFIED:20250912T081118Z
UID:84622-1758240000-1758326399@www.ngkerkvrystaat.co.za
SUMMARY:Kosmark | NG Gemeente St Helena
DESCRIPTION:
URL:https://www.ngkerkvrystaat.co.za/gebeure/kosmark-ng-gemeente-st-helena/
CATEGORIES:Basaar,Dag Gebeurtenis | Gemeentes
ATTACH;FMTTYPE=image/jpeg:https://www.ngkerkvrystaat.co.za/wp-content/uploads/2025/09/WhatsApp-Image-2025-09-12-at-10.05.50.jpeg
END:VEVENT
END:VCALENDAR