BEGIN:VCALENDAR
VERSION:2.0
PRODID:-//NG Kerk Vrystaat - ECPv6.15.20//NONSGML v1.0//EN
CALSCALE:GREGORIAN
METHOD:PUBLISH
X-ORIGINAL-URL:https://www.ngkerkvrystaat.co.za
X-WR-CALDESC:Events for NG Kerk Vrystaat
REFRESH-INTERVAL;VALUE=DURATION:PT1H
X-Robots-Tag:noindex
X-PUBLISHED-TTL:PT1H
BEGIN:VTIMEZONE
TZID:Africa/Johannesburg
BEGIN:STANDARD
TZOFFSETFROM:+0200
TZOFFSETTO:+0200
TZNAME:SAST
DTSTART:20240101T000000
END:STANDARD
END:VTIMEZONE
BEGIN:VEVENT
DTSTART;TZID=Africa/Johannesburg:20250906T083000
DTEND;TZID=Africa/Johannesburg:20250906T180000
DTSTAMP:20260421T015525
CREATED:20250808T133428Z
LAST-MODIFIED:20250808T133428Z
UID:83465-1757147400-1757181600@www.ngkerkvrystaat.co.za
SUMMARY:Kermis | NG Gemeente Hospitaalpark
DESCRIPTION:
URL:https://www.ngkerkvrystaat.co.za/gebeure/kermis-ng-gemeente-hospitaalpark/
CATEGORIES:Basaar,Dag Gebeurtenis | Gemeentes
ATTACH;FMTTYPE=image/png:https://www.ngkerkvrystaat.co.za/wp-content/uploads/2025/08/image.png
END:VEVENT
BEGIN:VEVENT
DTSTART;TZID=Africa/Johannesburg:20250906T090000
DTEND;TZID=Africa/Johannesburg:20250906T180000
DTSTAMP:20260421T015525
CREATED:20250813T130855Z
LAST-MODIFIED:20250813T131014Z
UID:83532-1757149200-1757181600@www.ngkerkvrystaat.co.za
SUMMARY:Basaar | NG Gemeente Bloemheuwel
DESCRIPTION:Vir navrae\, skakel gerus die Bloemheuwel-kerkkantoor by (051) 447 7468.
URL:https://www.ngkerkvrystaat.co.za/gebeure/basaar-ng-gemeente-bloemheuwel-3/
CATEGORIES:Basaar,Dag Gebeurtenis | Gemeentes
ATTACH;FMTTYPE=image/jpeg:https://www.ngkerkvrystaat.co.za/wp-content/uploads/2025/08/IMG-20250806-WA0111.jpg
END:VEVENT
END:VCALENDAR