BEGIN:VCALENDAR
VERSION:2.0
PRODID:-//NG Kerk Vrystaat - ECPv6.15.20//NONSGML v1.0//EN
CALSCALE:GREGORIAN
METHOD:PUBLISH
X-WR-CALNAME:NG Kerk Vrystaat
X-ORIGINAL-URL:https://www.ngkerkvrystaat.co.za
X-WR-CALDESC:Events for NG Kerk Vrystaat
REFRESH-INTERVAL;VALUE=DURATION:PT1H
X-Robots-Tag:noindex
X-PUBLISHED-TTL:PT1H
BEGIN:VTIMEZONE
TZID:Africa/Johannesburg
BEGIN:STANDARD
TZOFFSETFROM:+0200
TZOFFSETTO:+0200
TZNAME:SAST
DTSTART:20240101T000000
END:STANDARD
END:VTIMEZONE
BEGIN:VEVENT
DTSTART;TZID=Africa/Johannesburg:20250815T120000
DTEND;TZID=Africa/Johannesburg:20250815T183000
DTSTAMP:20260421T033003
CREATED:20250815T092953Z
LAST-MODIFIED:20250815T092953Z
UID:83638-1755259200-1755282600@www.ngkerkvrystaat.co.za
SUMMARY:Kleine Basaar | NG Gemeente Bedelia (Oase-gemeente)
DESCRIPTION:
URL:https://www.ngkerkvrystaat.co.za/gebeure/kleine-basaar-ng-gemeente-bedelia-oase-gemeente/
CATEGORIES:Basaar,Dag Gebeurtenis | Gemeentes
ATTACH;FMTTYPE=image/jpeg:https://www.ngkerkvrystaat.co.za/wp-content/uploads/2025/08/532982732_761131162952087_4895392272630692631_n.jpg
END:VEVENT
END:VCALENDAR