BEGIN:VCALENDAR
VERSION:2.0
PRODID:-//NG Kerk Vrystaat - ECPv6.15.20//NONSGML v1.0//EN
CALSCALE:GREGORIAN
METHOD:PUBLISH
X-WR-CALNAME:NG Kerk Vrystaat
X-ORIGINAL-URL:https://www.ngkerkvrystaat.co.za
X-WR-CALDESC:Events for NG Kerk Vrystaat
REFRESH-INTERVAL;VALUE=DURATION:PT1H
X-Robots-Tag:noindex
X-PUBLISHED-TTL:PT1H
BEGIN:VTIMEZONE
TZID:Africa/Johannesburg
BEGIN:STANDARD
TZOFFSETFROM:+0200
TZOFFSETTO:+0200
TZNAME:SAST
DTSTART:20250101T000000
END:STANDARD
END:VTIMEZONE
BEGIN:VEVENT
DTSTART;VALUE=DATE:20260307
DTEND;VALUE=DATE:20260308
DTSTAMP:20260420T143142
CREATED:20260302T131242Z
LAST-MODIFIED:20260302T133509Z
UID:86996-1772841600-1772927999@www.ngkerkvrystaat.co.za
SUMMARY:Basaar | NG Gemeente Kroonstad-Noord
DESCRIPTION:Kroonstad-Noord Basaar
URL:https://www.ngkerkvrystaat.co.za/gebeure/kroonstad-noord-basaar/
LOCATION:NG Kerk | Kroonstad-Noord
CATEGORIES:Basaar,Dag Gebeurtenis | Gemeentes
ATTACH;FMTTYPE=image/jpeg:https://www.ngkerkvrystaat.co.za/wp-content/uploads/2026/03/Kroonstad-Noord-Basaar.jpg
END:VEVENT
BEGIN:VEVENT
DTSTART;TZID=Africa/Johannesburg:20260307T080000
DTEND;TZID=Africa/Johannesburg:20260307T120000
DTSTAMP:20260420T143142
CREATED:20260130T130036Z
LAST-MODIFIED:20260130T130036Z
UID:86389-1772870400-1772884800@www.ngkerkvrystaat.co.za
SUMMARY:Basaar | NG Gemeente Leeuwberg
DESCRIPTION:
URL:https://www.ngkerkvrystaat.co.za/gebeure/basaar-ng-gemeente-leeuwberg-2/
CATEGORIES:Basaar,Dag Gebeurtenis | Gemeentes
ATTACH;FMTTYPE=image/jpeg:https://www.ngkerkvrystaat.co.za/wp-content/uploads/2026/01/WhatsApp-Image-2026-01-29-at-18.23.32.jpeg
END:VEVENT
END:VCALENDAR