BEGIN:VCALENDAR
VERSION:2.0
PRODID:-//NG Kerk Vrystaat - ECPv6.15.20//NONSGML v1.0//EN
CALSCALE:GREGORIAN
METHOD:PUBLISH
X-ORIGINAL-URL:https://www.ngkerkvrystaat.co.za
X-WR-CALDESC:Events for NG Kerk Vrystaat
REFRESH-INTERVAL;VALUE=DURATION:PT1H
X-Robots-Tag:noindex
X-PUBLISHED-TTL:PT1H
BEGIN:VTIMEZONE
TZID:Africa/Johannesburg
BEGIN:STANDARD
TZOFFSETFROM:+0200
TZOFFSETTO:+0200
TZNAME:SAST
DTSTART:20240101T000000
END:STANDARD
END:VTIMEZONE
BEGIN:VEVENT
DTSTART;VALUE=DATE:20251128
DTEND;VALUE=DATE:20251129
DTSTAMP:20260420T205110
CREATED:20250919T121534Z
LAST-MODIFIED:20250926T095836Z
UID:84819-1764288000-1764374399@www.ngkerkvrystaat.co.za
SUMMARY:Basaar | NG Gemeente Reitz-Wes
DESCRIPTION:
URL:https://www.ngkerkvrystaat.co.za/gebeure/basaar-ng-gemeente-reitz-wes/
CATEGORIES:Basaar,Dag Gebeurtenis | Gemeentes
ATTACH;FMTTYPE=image/jpeg:https://www.ngkerkvrystaat.co.za/wp-content/uploads/2025/09/547373048_1223002216536615_1216358780944181902_n.jpg
END:VEVENT
END:VCALENDAR