BEGIN:VCALENDAR
VERSION:2.0
PRODID:-//NG Kerk Vrystaat - ECPv6.15.20//NONSGML v1.0//EN
CALSCALE:GREGORIAN
METHOD:PUBLISH
X-WR-CALNAME:NG Kerk Vrystaat
X-ORIGINAL-URL:https://www.ngkerkvrystaat.co.za
X-WR-CALDESC:Events for NG Kerk Vrystaat
REFRESH-INTERVAL;VALUE=DURATION:PT1H
X-Robots-Tag:noindex
X-PUBLISHED-TTL:PT1H
BEGIN:VTIMEZONE
TZID:Africa/Johannesburg
BEGIN:STANDARD
TZOFFSETFROM:+0200
TZOFFSETTO:+0200
TZNAME:SAST
DTSTART:20230101T000000
END:STANDARD
END:VTIMEZONE
BEGIN:VEVENT
DTSTART;VALUE=DATE:20240222
DTEND;VALUE=DATE:20240223
DTSTAMP:20260419T182852
CREATED:20240207T210417Z
LAST-MODIFIED:20240917T072147Z
UID:60873-1708560000-1708646399@www.ngkerkvrystaat.co.za
SUMMARY:Dr Dawie Botes
DESCRIPTION:
URL:https://www.ngkerkvrystaat.co.za/gebeure/dr-dawie-botes-3/
CATEGORIES:Verjaarsdae
END:VEVENT
BEGIN:VEVENT
DTSTART;VALUE=DATE:20240222
DTEND;VALUE=DATE:20240223
DTSTAMP:20260419T182852
CREATED:20240207T210417Z
LAST-MODIFIED:20240917T072206Z
UID:60874-1708560000-1708646399@www.ngkerkvrystaat.co.za
SUMMARY:Ds Domonic Basson
DESCRIPTION:
URL:https://www.ngkerkvrystaat.co.za/gebeure/ds-domonic-basson-3/
CATEGORIES:Verjaarsdae
END:VEVENT
BEGIN:VEVENT
DTSTART;VALUE=DATE:20260222
DTEND;VALUE=DATE:20260223
DTSTAMP:20260419T182852
CREATED:20251215T062826Z
LAST-MODIFIED:20251215T062826Z
UID:85717-1771718400-1771804799@www.ngkerkvrystaat.co.za
SUMMARY:Kategese bydrae @ R25 per 100 kinders per jaar (B9a)
DESCRIPTION:
URL:https://www.ngkerkvrystaat.co.za/gebeure/kategese-bydrae-r25-per-100-kinders-per-jaar-b9a/
CATEGORIES:Kollekte 2026
END:VEVENT
BEGIN:VEVENT
DTSTART;VALUE=DATE:20260222
DTEND;VALUE=DATE:20260223
DTSTAMP:20260419T182852
CREATED:20251215T062921Z
LAST-MODIFIED:20251215T062921Z
UID:85720-1771718400-1771804799@www.ngkerkvrystaat.co.za
SUMMARY:Biddag vir Trauma en Verlies
DESCRIPTION:
URL:https://www.ngkerkvrystaat.co.za/gebeure/biddag-vir-trauma-en-verlies/
CATEGORIES:Biddag
END:VEVENT
BEGIN:VEVENT
DTSTART;VALUE=DATE:20260222
DTEND;VALUE=DATE:20260301
DTSTAMP:20260419T182852
CREATED:20251215T062647Z
LAST-MODIFIED:20251215T062647Z
UID:85715-1771718400-1772323199@www.ngkerkvrystaat.co.za
SUMMARY:Lydensweek 1
DESCRIPTION:
URL:https://www.ngkerkvrystaat.co.za/gebeure/lydensweek-1-2/
CATEGORIES:Kerkjaar
END:VEVENT
END:VCALENDAR