BEGIN:VCALENDAR
VERSION:2.0
PRODID:-//NG Kerk Vrystaat - ECPv6.15.20//NONSGML v1.0//EN
CALSCALE:GREGORIAN
METHOD:PUBLISH
X-ORIGINAL-URL:https://www.ngkerkvrystaat.co.za
X-WR-CALDESC:Events for NG Kerk Vrystaat
REFRESH-INTERVAL;VALUE=DURATION:PT1H
X-Robots-Tag:noindex
X-PUBLISHED-TTL:PT1H
BEGIN:VTIMEZONE
TZID:Africa/Johannesburg
BEGIN:STANDARD
TZOFFSETFROM:+0200
TZOFFSETTO:+0200
TZNAME:SAST
DTSTART:20250101T000000
END:STANDARD
END:VTIMEZONE
BEGIN:VEVENT
DTSTART;VALUE=DATE:20260217
DTEND;VALUE=DATE:20260218
DTSTAMP:20260419T182045
CREATED:20260116T085117Z
LAST-MODIFIED:20260116T085117Z
UID:86102-1771286400-1771372799@www.ngkerkvrystaat.co.za
SUMMARY:Ontwerpspan Sinode
DESCRIPTION:
URL:https://www.ngkerkvrystaat.co.za/gebeure/ontwerpspan-sinode/
LOCATION:NG Kerk | Vrystaat | Sinode\, Van Heerdenweg 20\, Bloemfontein\, Vrystaat\, 9301\, South Africa
CATEGORIES:Sinode Byeenkoms
ORGANIZER;CN="NG Kerk Vrystaat":MAILTO:skakel@ngkvs.co.za
END:VEVENT
BEGIN:VEVENT
DTSTART;TZID=Africa/Johannesburg:20260217T190000
DTEND;TZID=Africa/Johannesburg:20260217T210000
DTSTAMP:20260419T182045
CREATED:20260216T134937Z
LAST-MODIFIED:20260216T135122Z
UID:86658-1771354800-1771362000@www.ngkerkvrystaat.co.za
SUMMARY:Islam vandag – Wat Christene regtig moet weet
DESCRIPTION:
URL:https://www.ngkerkvrystaat.co.za/gebeure/86658/
LOCATION:Zoom\, South Africa
CATEGORIES:Didasko | VBO,VBO Forum
ATTACH;FMTTYPE=image/jpeg:https://www.ngkerkvrystaat.co.za/wp-content/uploads/2026/02/WhatsApp-Image-2026-02-16-at-15.06.51.jpeg
ORGANIZER;CN="NG Kerk Vrystaat":MAILTO:skakel@ngkvs.co.za
END:VEVENT
END:VCALENDAR