BEGIN:VCALENDAR
VERSION:2.0
PRODID:-//NG Kerk Vrystaat - ECPv6.15.20//NONSGML v1.0//EN
CALSCALE:GREGORIAN
METHOD:PUBLISH
X-ORIGINAL-URL:https://www.ngkerkvrystaat.co.za
X-WR-CALDESC:Events for NG Kerk Vrystaat
REFRESH-INTERVAL;VALUE=DURATION:PT1H
X-Robots-Tag:noindex
X-PUBLISHED-TTL:PT1H
BEGIN:VTIMEZONE
TZID:Africa/Johannesburg
BEGIN:STANDARD
TZOFFSETFROM:+0200
TZOFFSETTO:+0200
TZNAME:SAST
DTSTART:20250101T000000
END:STANDARD
END:VTIMEZONE
BEGIN:VEVENT
DTSTART;VALUE=DATE:20260208
DTEND;VALUE=DATE:20260209
DTSTAMP:20260419T182050
CREATED:20251210T100037Z
LAST-MODIFIED:20251210T100037Z
UID:85685-1770508800-1770595199@www.ngkerkvrystaat.co.za
SUMMARY:Biddag vir Opvoeding en Onderwys
DESCRIPTION:
URL:https://www.ngkerkvrystaat.co.za/gebeure/biddag-vir-opvoeding-en-onderwys-2/
CATEGORIES:Biddag
END:VEVENT
BEGIN:VEVENT
DTSTART;VALUE=DATE:20260208
DTEND;VALUE=DATE:20260209
DTSTAMP:20260419T182050
CREATED:20251210T100128Z
LAST-MODIFIED:20251210T100128Z
UID:85687-1770508800-1770595199@www.ngkerkvrystaat.co.za
SUMMARY:Kollekte:  Predikantebegeleiding (B7)
DESCRIPTION:
URL:https://www.ngkerkvrystaat.co.za/gebeure/kollekte-predikantebegeleiding-b7/
CATEGORIES:Kollekte 2026
END:VEVENT
END:VCALENDAR