BEGIN:VCALENDAR
VERSION:2.0
PRODID:-//NG Kerk Vrystaat - ECPv6.15.20//NONSGML v1.0//EN
CALSCALE:GREGORIAN
METHOD:PUBLISH
X-ORIGINAL-URL:https://www.ngkerkvrystaat.co.za
X-WR-CALDESC:Events for NG Kerk Vrystaat
REFRESH-INTERVAL;VALUE=DURATION:PT1H
X-Robots-Tag:noindex
X-PUBLISHED-TTL:PT1H
BEGIN:VTIMEZONE
TZID:Africa/Johannesburg
BEGIN:STANDARD
TZOFFSETFROM:+0200
TZOFFSETTO:+0200
TZNAME:SAST
DTSTART:20250101T000000
END:STANDARD
END:VTIMEZONE
BEGIN:VEVENT
DTSTART;VALUE=DATE:20260205
DTEND;VALUE=DATE:20260206
DTSTAMP:20260419T182151
CREATED:20251210T095257Z
LAST-MODIFIED:20260116T073209Z
UID:85674-1770249600-1770335999@www.ngkerkvrystaat.co.za
SUMMARY:Moderamen
DESCRIPTION:
URL:https://www.ngkerkvrystaat.co.za/gebeure/moderamen-13/
LOCATION:Menuha
CATEGORIES:Moderamen
END:VEVENT
BEGIN:VEVENT
DTSTART;VALUE=DATE:20260205
DTEND;VALUE=DATE:20260206
DTSTAMP:20260419T182151
CREATED:20251210T095731Z
LAST-MODIFIED:20251210T095731Z
UID:85680-1770249600-1770335999@www.ngkerkvrystaat.co.za
SUMMARY:Diens v Barmhartigheid Dagbestuur
DESCRIPTION:
URL:https://www.ngkerkvrystaat.co.za/gebeure/diens-v-barmhartigheid-dagbestuur/
LOCATION:NG Kerk | Vrystaat | Sinode\, Van Heerdenweg 20\, Bloemfontein\, Vrystaat\, 9301\, South Africa
CATEGORIES:Diens van Barmhartigheid
END:VEVENT
BEGIN:VEVENT
DTSTART;TZID=Africa/Johannesburg:20260205T100000
DTEND;TZID=Africa/Johannesburg:20260205T120000
DTSTAMP:20260419T182151
CREATED:20260130T133133Z
LAST-MODIFIED:20260130T133133Z
UID:86406-1770285600-1770292800@www.ngkerkvrystaat.co.za
SUMMARY:Yolandé Korkie | Vrouediens-sending
DESCRIPTION:
URL:https://www.ngkerkvrystaat.co.za/gebeure/yolande-korkie-vrouediens-sending/
CATEGORIES:Dag Gebeurtenis | Gemeentes
ATTACH;FMTTYPE=image/jpeg:https://www.ngkerkvrystaat.co.za/wp-content/uploads/2026/01/WhatsApp-Image-2026-01-13-at-09.33.42.jpeg
END:VEVENT
END:VCALENDAR