BEGIN:VCALENDAR
VERSION:2.0
PRODID:-//NG Kerk Vrystaat - ECPv6.15.20//NONSGML v1.0//EN
CALSCALE:GREGORIAN
METHOD:PUBLISH
X-ORIGINAL-URL:https://www.ngkerkvrystaat.co.za
X-WR-CALDESC:Events for NG Kerk Vrystaat
REFRESH-INTERVAL;VALUE=DURATION:PT1H
X-Robots-Tag:noindex
X-PUBLISHED-TTL:PT1H
BEGIN:VTIMEZONE
TZID:Africa/Johannesburg
BEGIN:STANDARD
TZOFFSETFROM:+0200
TZOFFSETTO:+0200
TZNAME:SAST
DTSTART:20250101T000000
END:STANDARD
END:VTIMEZONE
BEGIN:VEVENT
DTSTART;TZID=Africa/Johannesburg:20260204T180000
DTEND;TZID=Africa/Johannesburg:20260204T190000
DTSTAMP:20260419T180742
CREATED:20260130T134639Z
LAST-MODIFIED:20260130T134639Z
UID:86415-1770228000-1770231600@www.ngkerkvrystaat.co.za
SUMMARY:"GriefShare"-program | NG Gemeente Pellissier
DESCRIPTION:
URL:https://www.ngkerkvrystaat.co.za/gebeure/griefshare-program-ng-gemeente-pellissier/
CATEGORIES:Dag Gebeurtenis | Gemeentes
ATTACH;FMTTYPE=image/png:https://www.ngkerkvrystaat.co.za/wp-content/uploads/2026/01/GriefShare.png
END:VEVENT
END:VCALENDAR