BEGIN:VCALENDAR
VERSION:2.0
PRODID:-//NG Kerk Vrystaat - ECPv6.15.20//NONSGML v1.0//EN
CALSCALE:GREGORIAN
METHOD:PUBLISH
X-ORIGINAL-URL:https://www.ngkerkvrystaat.co.za
X-WR-CALDESC:Events for NG Kerk Vrystaat
REFRESH-INTERVAL;VALUE=DURATION:PT1H
X-Robots-Tag:noindex
X-PUBLISHED-TTL:PT1H
BEGIN:VTIMEZONE
TZID:Africa/Johannesburg
BEGIN:STANDARD
TZOFFSETFROM:+0200
TZOFFSETTO:+0200
TZNAME:SAST
DTSTART:20250101T000000
END:STANDARD
END:VTIMEZONE
BEGIN:VEVENT
DTSTART;TZID=Africa/Johannesburg:20260131T090000
DTEND;TZID=Africa/Johannesburg:20260131T150000
DTSTAMP:20260421T161113
CREATED:20251121T101719Z
LAST-MODIFIED:20251121T101719Z
UID:85381-1769850000-1769871600@www.ngkerkvrystaat.co.za
SUMMARY:Hoe deel ek die Evangelie met 'n Moslem | NG Gemeente Jacobsdal
DESCRIPTION:
URL:https://www.ngkerkvrystaat.co.za/gebeure/hoe-deel-ek-die-evangelie-met-n-moslem-ng-gemeente-jacobsdal/
CATEGORIES:Dag Gebeurtenis | Gemeentes
ATTACH;FMTTYPE=image/jpeg:https://www.ngkerkvrystaat.co.za/wp-content/uploads/2025/11/Vrypos-advertensie-Enrico.jpg
END:VEVENT
END:VCALENDAR