BEGIN:VCALENDAR
VERSION:2.0
PRODID:-//NG Kerk Vrystaat - ECPv6.15.20//NONSGML v1.0//EN
CALSCALE:GREGORIAN
METHOD:PUBLISH
X-ORIGINAL-URL:https://www.ngkerkvrystaat.co.za
X-WR-CALDESC:Events for NG Kerk Vrystaat
REFRESH-INTERVAL;VALUE=DURATION:PT1H
X-Robots-Tag:noindex
X-PUBLISHED-TTL:PT1H
BEGIN:VTIMEZONE
TZID:Africa/Johannesburg
BEGIN:STANDARD
TZOFFSETFROM:+0200
TZOFFSETTO:+0200
TZNAME:SAST
DTSTART:20220101T000000
END:STANDARD
END:VTIMEZONE
BEGIN:VEVENT
DTSTART;TZID=Africa/Johannesburg:20230219T000000
DTEND;TZID=Africa/Johannesburg:20230219T120000
DTSTAMP:20260422T012542
CREATED:20200504T160421Z
LAST-MODIFIED:20230421T084449Z
UID:1737-1676764800-1676808000@www.ngkerkvrystaat.co.za
SUMMARY:Lydenstyd
DESCRIPTION:Matt 17:1-8 | Ses dae later het Jesus vir Petrus en Jakobus en sy broer Johannes saamgeneem en hulle op ‘n hoë berg gebring waar hulle alleen was. Daar het sy voorkoms voor hulle oë verander: sy gesig het begin straal soos die son\, en sy klere het wit geword soos die lig. Skielik het Moses en Elia aan hulle verskyn en met Jesus gepraat. Toe sê Petrus vir Jesus: “Here\, dit is goed dat ons hier is. As U wil\, sal ek hier drie hutte bou: een vir U\, een vir Moses en een vir Elia.” Terwyl hy nog praat\, het ‘n helderligte wolk skielik sy skaduwee oor hulle gegooi\, en ‘n stem uit die wolk het gesê: “Dit is my geliefde Seun oor wie Ek My verheug. Luister na Hom.” Toe sy dissipels dit hoor\, het hulle baie bang geword en op die grond neergeval. Maar Jesus het na hulle toe gekom\, hulle aangeraak en gesê: “Staan op en moenie bang wees nie.” Toe hulle opkyk\, het hulle niemand gesien nie\, net Jesus alleen. \nLydenstyd is ’n seisoen van 46 dae waarin die kerk met vreugde\, erns en pyn die versoenende sterwe van Jesus verkondig\, deur sy lyding in herinnering te roep endaarop te reageer in voorbereiding op die Paasfees. Ons dink terug aan die verheerliking van Jesus Christus op die Berg. Hier was die Godheid en Koningskap van Jesus Christus reeds sigbaar. \nHierdie verheerliking het Jesus Christus se lydenstyd ingelei. \nKleure: Wynrooi of Pers \nTydperk: 6 weke (40 dae\, Sondae uitgesluit) vanaf Aswoensdag tot en met Goeie Vrydag \nOorgeneem uit Visuele konsep voorstelling van kerkjaarkalender deur NGK Durbanville-Bergsig
URL:https://www.ngkerkvrystaat.co.za/gebeure/lydenstyd/
LOCATION:NG Kerk | Vrystaat | Sinode\, Van Heerdenweg 20\, Bloemfontein\, Vrystaat\, 9301\, South Africa
CATEGORIES:Kerkjaar
ATTACH;FMTTYPE=image/png:https://www.ngkerkvrystaat.co.za/wp-content/uploads/2020/04/Lydenstyd.png
END:VEVENT
BEGIN:VEVENT
DTSTART;TZID=Africa/Johannesburg:20230304T000000
DTEND;TZID=Africa/Johannesburg:20230304T235959
DTSTAMP:20260422T012542
CREATED:20221230T125649Z
LAST-MODIFIED:20221230T125649Z
UID:28845-1677888000-1677974399@www.ngkerkvrystaat.co.za
SUMMARY:Wêreldbiddag vir Mans
DESCRIPTION:
URL:https://www.ngkerkvrystaat.co.za/gebeure/wereldbiddag-vir-mans/
END:VEVENT
BEGIN:VEVENT
DTSTART;TZID=Africa/Johannesburg:20230304T000000
DTEND;TZID=Africa/Johannesburg:20230304T235959
DTSTAMP:20260422T012542
CREATED:20230105T103827Z
LAST-MODIFIED:20230206T133827Z
UID:29702-1677888000-1677974399@www.ngkerkvrystaat.co.za
SUMMARY:Ds Charné Viljoen
DESCRIPTION:
URL:https://www.ngkerkvrystaat.co.za/gebeure/ds-charne-viljoen-2/
CATEGORIES:Verjaarsdae
END:VEVENT
BEGIN:VEVENT
DTSTART;TZID=Africa/Johannesburg:20230304T000000
DTEND;TZID=Africa/Johannesburg:20230304T235959
DTSTAMP:20260422T012542
CREATED:20230105T103827Z
LAST-MODIFIED:20230206T133743Z
UID:29703-1677888000-1677974399@www.ngkerkvrystaat.co.za
SUMMARY:Mev Miriam Sebolai
DESCRIPTION:
URL:https://www.ngkerkvrystaat.co.za/gebeure/mev-miriam-sebolai-2/
CATEGORIES:Verjaarsdae
END:VEVENT
BEGIN:VEVENT
DTSTART;TZID=Africa/Johannesburg:20230304T000000
DTEND;TZID=Africa/Johannesburg:20230304T235959
DTSTAMP:20260422T012542
CREATED:20240212T073622Z
LAST-MODIFIED:20240212T073622Z
UID:60888-1677888000-1677974399@www.ngkerkvrystaat.co.za
SUMMARY:Mev Miriam Sebolai
DESCRIPTION:
URL:https://www.ngkerkvrystaat.co.za/gebeure/mev-miriam-sebolai/
CATEGORIES:Verjaarsdae
END:VEVENT
END:VCALENDAR