BEGIN:VCALENDAR
VERSION:2.0
PRODID:-//NG Kerk Vrystaat - ECPv6.15.20//NONSGML v1.0//EN
CALSCALE:GREGORIAN
METHOD:PUBLISH
X-ORIGINAL-URL:https://www.ngkerkvrystaat.co.za
X-WR-CALDESC:Events for NG Kerk Vrystaat
REFRESH-INTERVAL;VALUE=DURATION:PT1H
X-Robots-Tag:noindex
X-PUBLISHED-TTL:PT1H
BEGIN:VTIMEZONE
TZID:Africa/Johannesburg
BEGIN:STANDARD
TZOFFSETFROM:+0200
TZOFFSETTO:+0200
TZNAME:SAST
DTSTART:20220101T000000
END:STANDARD
END:VTIMEZONE
BEGIN:VEVENT
DTSTART;TZID=Africa/Johannesburg:20230219T000000
DTEND;TZID=Africa/Johannesburg:20230219T120000
DTSTAMP:20260422T012605
CREATED:20200504T160421Z
LAST-MODIFIED:20230421T084449Z
UID:1737-1676764800-1676808000@www.ngkerkvrystaat.co.za
SUMMARY:Lydenstyd
DESCRIPTION:Matt 17:1-8 | Ses dae later het Jesus vir Petrus en Jakobus en sy broer Johannes saamgeneem en hulle op ‘n hoë berg gebring waar hulle alleen was. Daar het sy voorkoms voor hulle oë verander: sy gesig het begin straal soos die son\, en sy klere het wit geword soos die lig. Skielik het Moses en Elia aan hulle verskyn en met Jesus gepraat. Toe sê Petrus vir Jesus: “Here\, dit is goed dat ons hier is. As U wil\, sal ek hier drie hutte bou: een vir U\, een vir Moses en een vir Elia.” Terwyl hy nog praat\, het ‘n helderligte wolk skielik sy skaduwee oor hulle gegooi\, en ‘n stem uit die wolk het gesê: “Dit is my geliefde Seun oor wie Ek My verheug. Luister na Hom.” Toe sy dissipels dit hoor\, het hulle baie bang geword en op die grond neergeval. Maar Jesus het na hulle toe gekom\, hulle aangeraak en gesê: “Staan op en moenie bang wees nie.” Toe hulle opkyk\, het hulle niemand gesien nie\, net Jesus alleen. \nLydenstyd is ’n seisoen van 46 dae waarin die kerk met vreugde\, erns en pyn die versoenende sterwe van Jesus verkondig\, deur sy lyding in herinnering te roep endaarop te reageer in voorbereiding op die Paasfees. Ons dink terug aan die verheerliking van Jesus Christus op die Berg. Hier was die Godheid en Koningskap van Jesus Christus reeds sigbaar. \nHierdie verheerliking het Jesus Christus se lydenstyd ingelei. \nKleure: Wynrooi of Pers \nTydperk: 6 weke (40 dae\, Sondae uitgesluit) vanaf Aswoensdag tot en met Goeie Vrydag \nOorgeneem uit Visuele konsep voorstelling van kerkjaarkalender deur NGK Durbanville-Bergsig
URL:https://www.ngkerkvrystaat.co.za/gebeure/lydenstyd/
LOCATION:NG Kerk | Vrystaat | Sinode\, Van Heerdenweg 20\, Bloemfontein\, Vrystaat\, 9301\, South Africa
CATEGORIES:Kerkjaar
ATTACH;FMTTYPE=image/png:https://www.ngkerkvrystaat.co.za/wp-content/uploads/2020/04/Lydenstyd.png
END:VEVENT
BEGIN:VEVENT
DTSTART;TZID=Africa/Johannesburg:20230221T000000
DTEND;TZID=Africa/Johannesburg:20230222T235959
DTSTAMP:20260422T012605
CREATED:20221214T064741Z
LAST-MODIFIED:20221214T082318Z
UID:28716-1676937600-1677110399@www.ngkerkvrystaat.co.za
SUMMARY:Jong leraarsretreate
DESCRIPTION:
URL:https://www.ngkerkvrystaat.co.za/gebeure/jong-leraarsretreate/
CATEGORIES:Bedieningsbegeleiding
END:VEVENT
BEGIN:VEVENT
DTSTART;TZID=Africa/Johannesburg:20230222T000000
DTEND;TZID=Africa/Johannesburg:20230222T235959
DTSTAMP:20260422T012605
CREATED:20221214T064725Z
LAST-MODIFIED:20221214T082327Z
UID:28710-1677024000-1677110399@www.ngkerkvrystaat.co.za
SUMMARY:PG Dip Blok 1
DESCRIPTION:
URL:https://www.ngkerkvrystaat.co.za/gebeure/pg-dip-blok-1-3/
CATEGORIES:Bedieningsbegeleiding
END:VEVENT
BEGIN:VEVENT
DTSTART;TZID=Africa/Johannesburg:20230222T000000
DTEND;TZID=Africa/Johannesburg:20230222T235959
DTSTAMP:20260422T012605
CREATED:20221214T064741Z
LAST-MODIFIED:20221214T082348Z
UID:28718-1677024000-1677110399@www.ngkerkvrystaat.co.za
SUMMARY:Seminarum programme begin
DESCRIPTION:
URL:https://www.ngkerkvrystaat.co.za/gebeure/seminarum-programme-begin/
CATEGORIES:Bedieningsbegeleiding
END:VEVENT
BEGIN:VEVENT
DTSTART;TZID=Africa/Johannesburg:20230222T000000
DTEND;TZID=Africa/Johannesburg:20230222T235959
DTSTAMP:20260422T012605
CREATED:20230105T064153Z
LAST-MODIFIED:20230206T133659Z
UID:29674-1677024000-1677110399@www.ngkerkvrystaat.co.za
SUMMARY:Dr Dawie Botes
DESCRIPTION:
URL:https://www.ngkerkvrystaat.co.za/gebeure/dr-dawie-botes/
CATEGORIES:Verjaarsdae
END:VEVENT
BEGIN:VEVENT
DTSTART;TZID=Africa/Johannesburg:20230222T000000
DTEND;TZID=Africa/Johannesburg:20230222T235959
DTSTAMP:20260422T012605
CREATED:20230105T064153Z
LAST-MODIFIED:20230206T133702Z
UID:29675-1677024000-1677110399@www.ngkerkvrystaat.co.za
SUMMARY:Ds Domonic Basson
DESCRIPTION:
URL:https://www.ngkerkvrystaat.co.za/gebeure/ds-domonic-basson/
CATEGORIES:Verjaarsdae
END:VEVENT
BEGIN:VEVENT
DTSTART;TZID=Africa/Johannesburg:20230222T000000
DTEND;TZID=Africa/Johannesburg:20230222T235959
DTSTAMP:20260422T012605
CREATED:20230201T071147Z
LAST-MODIFIED:20230421T085815Z
UID:34471-1677024000-1677110399@www.ngkerkvrystaat.co.za
SUMMARY:Aswoensdag
DESCRIPTION:Ps 103: 1-4 | ‘n PSALM van Dawid. Loof die Here\, o my siel\, en alles wat binne-in my is\, sy heilige Naam! Loof die Here\, o my siel\, en vergeet geeneen van sy weldade nie! Wat al jou ongeregtigheid vergewe\, wat al jou krankhede genees\, wat jou lewe verlos van die verderf\, wat jou kroon met goedertierenheid en barmhartighede\, \n\n\n\nTydens Aswoensdag het ons berou en doen skuldbelydenis. Dit is deel van ons hertoewyding aan God. \n\n\n\nTydperk: 22 Februarie 2023 \n\n\n\nOorgeneem uit Visuele konsep voorstelling van kerkjaarkalender deur NGK Durbanville-Bergsig
URL:https://www.ngkerkvrystaat.co.za/gebeure/aswoensdag/
CATEGORIES:Kerkjaar
ATTACH;FMTTYPE=image/png:https://www.ngkerkvrystaat.co.za/wp-content/uploads/2023/02/Aswoensdag.png
END:VEVENT
END:VCALENDAR