BEGIN:VCALENDAR
VERSION:2.0
PRODID:-//NG Kerk Vrystaat - ECPv6.15.20//NONSGML v1.0//EN
CALSCALE:GREGORIAN
METHOD:PUBLISH
X-WR-CALNAME:NG Kerk Vrystaat
X-ORIGINAL-URL:https://www.ngkerkvrystaat.co.za
X-WR-CALDESC:Events for NG Kerk Vrystaat
REFRESH-INTERVAL;VALUE=DURATION:PT1H
X-Robots-Tag:noindex
X-PUBLISHED-TTL:PT1H
BEGIN:VTIMEZONE
TZID:Africa/Johannesburg
BEGIN:STANDARD
TZOFFSETFROM:+0200
TZOFFSETTO:+0200
TZNAME:SAST
DTSTART:20220101T000000
END:STANDARD
END:VTIMEZONE
BEGIN:VEVENT
DTSTART;TZID=Africa/Johannesburg:20230217T000000
DTEND;TZID=Africa/Johannesburg:20230217T235959
DTSTAMP:20260422T012304
CREATED:20221214T064710Z
LAST-MODIFIED:20221214T082137Z
UID:28704-1676592000-1676678399@www.ngkerkvrystaat.co.za
SUMMARY:Kantoorhoofde
DESCRIPTION:
URL:https://www.ngkerkvrystaat.co.za/gebeure/kantoorhoofde-4/
CATEGORIES:Ondersteuning
END:VEVENT
BEGIN:VEVENT
DTSTART;TZID=Africa/Johannesburg:20230217T000000
DTEND;TZID=Africa/Johannesburg:20230219T235959
DTSTAMP:20260422T012304
CREATED:20221214T064710Z
LAST-MODIFIED:20221214T064710Z
UID:28705-1676592000-1676851199@www.ngkerkvrystaat.co.za
SUMMARY:NG Kerk-familiekamp
DESCRIPTION:
URL:https://www.ngkerkvrystaat.co.za/gebeure/ng-kerk-familiekamp/
END:VEVENT
BEGIN:VEVENT
DTSTART;TZID=Africa/Johannesburg:20230217T000000
DTEND;TZID=Africa/Johannesburg:20230219T235959
DTSTAMP:20260422T012304
CREATED:20221214T064710Z
LAST-MODIFIED:20221214T082159Z
UID:28706-1676592000-1676851199@www.ngkerkvrystaat.co.za
SUMMARY:Roepingsretreat vir gemeentejaars
DESCRIPTION:
URL:https://www.ngkerkvrystaat.co.za/gebeure/roepingsretreat-vir-gemeentejaars/
CATEGORIES:Bedieningsbegeleiding
END:VEVENT
END:VCALENDAR