BEGIN:VCALENDAR
VERSION:2.0
PRODID:-//NG Kerk Vrystaat - ECPv6.15.20//NONSGML v1.0//EN
CALSCALE:GREGORIAN
METHOD:PUBLISH
X-ORIGINAL-URL:https://www.ngkerkvrystaat.co.za
X-WR-CALDESC:Events for NG Kerk Vrystaat
REFRESH-INTERVAL;VALUE=DURATION:PT1H
X-Robots-Tag:noindex
X-PUBLISHED-TTL:PT1H
BEGIN:VTIMEZONE
TZID:Africa/Johannesburg
BEGIN:STANDARD
TZOFFSETFROM:+0200
TZOFFSETTO:+0200
TZNAME:SAST
DTSTART:20220101T000000
END:STANDARD
END:VTIMEZONE
BEGIN:VEVENT
DTSTART;VALUE=DATE:20230121
DTEND;VALUE=DATE:20230122
DTSTAMP:20260422T010640
CREATED:20230104T134234Z
LAST-MODIFIED:20240917T104654Z
UID:29656-1674259200-1674345599@www.ngkerkvrystaat.co.za
SUMMARY:Dr Johan Nel
DESCRIPTION:
URL:https://www.ngkerkvrystaat.co.za/gebeure/dr-johan-nel/
CATEGORIES:Verjaarsdae
END:VEVENT
END:VCALENDAR