BEGIN:VCALENDAR
VERSION:2.0
PRODID:-//NG Kerk Vrystaat - ECPv6.15.20//NONSGML v1.0//EN
CALSCALE:GREGORIAN
METHOD:PUBLISH
X-WR-CALNAME:NG Kerk Vrystaat
X-ORIGINAL-URL:https://www.ngkerkvrystaat.co.za
X-WR-CALDESC:Events for NG Kerk Vrystaat
REFRESH-INTERVAL;VALUE=DURATION:PT1H
X-Robots-Tag:noindex
X-PUBLISHED-TTL:PT1H
BEGIN:VTIMEZONE
TZID:Africa/Johannesburg
BEGIN:STANDARD
TZOFFSETFROM:+0200
TZOFFSETTO:+0200
TZNAME:SAST
DTSTART:20220101T000000
END:STANDARD
END:VTIMEZONE
BEGIN:VEVENT
DTSTART;TZID=Africa/Johannesburg:20230115T000000
DTEND;TZID=Africa/Johannesburg:20230115T235959
DTSTAMP:20260421T231932
CREATED:20221213T114036Z
LAST-MODIFIED:20230125T135711Z
UID:28633-1673740800-1673827199@www.ngkerkvrystaat.co.za
SUMMARY:Kollekte | Vennootskappe | VGKSA Vrystaat | A14 (voorheen B8)
DESCRIPTION:
URL:https://www.ngkerkvrystaat.co.za/gebeure/kollekte-vennootskappe-ngka-vrystaat-a14-voorheen-b8/
CATEGORIES:Kollekte
ATTACH;FMTTYPE=image/jpeg:https://www.ngkerkvrystaat.co.za/wp-content/uploads/2022/12/Deurkollekte-22-Januarie-Vennootskappe-VGKSA-Vrystaat-002-scaled.jpg
END:VEVENT
BEGIN:VEVENT
DTSTART;VALUE=DATE:20230115
DTEND;VALUE=DATE:20230116
DTSTAMP:20260421T231932
CREATED:20230104T134212Z
LAST-MODIFIED:20240917T103901Z
UID:29651-1673740800-1673827199@www.ngkerkvrystaat.co.za
SUMMARY:Dr Leon Foot
DESCRIPTION:
URL:https://www.ngkerkvrystaat.co.za/gebeure/dr-leon-foot/
CATEGORIES:Verjaarsdae
END:VEVENT
END:VCALENDAR