BEGIN:VCALENDAR
VERSION:2.0
PRODID:-//NG Kerk Vrystaat - ECPv6.15.20//NONSGML v1.0//EN
CALSCALE:GREGORIAN
METHOD:PUBLISH
X-ORIGINAL-URL:https://www.ngkerkvrystaat.co.za
X-WR-CALDESC:Events for NG Kerk Vrystaat
REFRESH-INTERVAL;VALUE=DURATION:PT1H
X-Robots-Tag:noindex
X-PUBLISHED-TTL:PT1H
BEGIN:VTIMEZONE
TZID:Africa/Johannesburg
BEGIN:STANDARD
TZOFFSETFROM:+0200
TZOFFSETTO:+0200
TZNAME:SAST
DTSTART:20220101T000000
END:STANDARD
END:VTIMEZONE
BEGIN:VEVENT
DTSTART;VALUE=DATE:20230109
DTEND;VALUE=DATE:20230110
DTSTAMP:20260422T025658
CREATED:20230104T134159Z
LAST-MODIFIED:20240917T103530Z
UID:29646-1673222400-1673308799@www.ngkerkvrystaat.co.za
SUMMARY:Ds Craig Saltzman
DESCRIPTION:
URL:https://www.ngkerkvrystaat.co.za/gebeure/ds-craig-saltzman/
CATEGORIES:Verjaarsdae
END:VEVENT
BEGIN:VEVENT
DTSTART;VALUE=DATE:20230109
DTEND;VALUE=DATE:20230110
DTSTAMP:20260422T025658
CREATED:20230104T134159Z
LAST-MODIFIED:20240917T103438Z
UID:29647-1673222400-1673308799@www.ngkerkvrystaat.co.za
SUMMARY:Ds Madelein Bakker
DESCRIPTION:
URL:https://www.ngkerkvrystaat.co.za/gebeure/ds-madelein-bakker/
CATEGORIES:Verjaarsdae
END:VEVENT
END:VCALENDAR