BEGIN:VCALENDAR
VERSION:2.0
PRODID:-//NG Kerk Vrystaat - ECPv6.15.20//NONSGML v1.0//EN
CALSCALE:GREGORIAN
METHOD:PUBLISH
X-ORIGINAL-URL:https://www.ngkerkvrystaat.co.za
X-WR-CALDESC:Events for NG Kerk Vrystaat
REFRESH-INTERVAL;VALUE=DURATION:PT1H
X-Robots-Tag:noindex
X-PUBLISHED-TTL:PT1H
BEGIN:VTIMEZONE
TZID:Africa/Johannesburg
BEGIN:STANDARD
TZOFFSETFROM:+0200
TZOFFSETTO:+0200
TZNAME:SAST
DTSTART:20220101T000000
END:STANDARD
END:VTIMEZONE
BEGIN:VEVENT
DTSTART;TZID=Africa/Johannesburg:20230103T000000
DTEND;TZID=Africa/Johannesburg:20230103T235959
DTSTAMP:20260421T232414
CREATED:20221213T114036Z
LAST-MODIFIED:20221213T114709Z
UID:28631-1672704000-1672790399@www.ngkerkvrystaat.co.za
SUMMARY:NK Kerk Vrystaat Kantoor Open
DESCRIPTION:
URL:https://www.ngkerkvrystaat.co.za/gebeure/nk-kerk-vrystaat-kantoor-open/
CATEGORIES:Sinode Kantoor
END:VEVENT
END:VCALENDAR